BEGIN:VCALENDAR
PRODID:NingEventWidget-v1
VERSION:2.0
METHOD:PUBLISH
BEGIN:VTIMEZONE
TZID:America/Los_Angeles
X-LIC-LOCATION:America/Los_Angeles
BEGIN:DAYLIGHT
TZOFFSETFROM:-0800
TZOFFSETTO:-0700
TZNAME:PDT
DTSTART:19700308T020000
RRULE:FREQ=YEARLY;BYMONTH=3;BYDAY=2SU
END:DAYLIGHT
BEGIN:STANDARD
TZOFFSETFROM:-0700
TZOFFSETTO:-0800
TZNAME:PST
DTSTART:19701101T020000
RRULE:FREQ=YEARLY;BYMONTH=11;BYDAY=1SU
END:STANDARD
END:VTIMEZONE
BEGIN:VEVENT
UID:1464587:Event:554977
DTSTAMP:20260420T182205Z
SUMMARY:Ledisi (Pennsylvania)
DESCRIPTION:\nDate\nLocation\nEvent Details\nFind Tickets\n\n\nMAR  
 \n18\nWED\n\nSands Bethlehem Event CenterBethlehem, PA08:00 PM\n\nLed
 isiDetails: Ledisi, Raheem DeVaughn, Leela James\nSee Tickets\n\n\n\
 n\nFor more information visit http://trueskool.com/events/ledisi-penns
 ylvania
DTSTART;TZID=America/Los_Angeles:20150318T200000
DTEND;TZID=America/Los_Angeles:20150318T230000
CATEGORIES:philadelphia, pa, pennsylvania, philly, bethlehem
LOCATION:Sands Bethlehem Event Center
WEBSITE:http://www.ticketmaster.com/ledisi-bethlehem-pennsylvania-03-1
 8-2015/event/02004D8CE92E6885?artistid=1104783&majorcatid=10001&minorc
 atid=202&tm_link=artist_msg-0_02004D8CE92E6885
URL:http://www.ticketmaster.com/ledisi-bethlehem-pennsylvania-03-18-20
 15/event/02004D8CE92E6885?artistid=1104783&majorcatid=10001&minorcatid
 =202&tm_link=artist_msg-0_02004D8CE92E6885
CONTACT:
ORGANIZER;CN="Editor's Pick":http://trueskool.com/profile/RentheVinylA
 rchaeologist
ATTACH;FMTTYPE="image/jpeg":http://storage.ning.com/topology/rest/1.0/
 file/get/2247973263?profile=original
ATTENDEE;ROLE=REQ-PARTICIPANT;PARTSTAT=ACCEPTED;RSVP=TRUE;CN="Editor's
  Pick":http://trueskool.com/profile/RentheVinylArchaeologist
END:VEVENT
END:VCALENDAR
