BEGIN:VCALENDAR
PRODID:NingEventWidget-v1
VERSION:2.0
METHOD:PUBLISH
BEGIN:VTIMEZONE
TZID:America/Los_Angeles
X-LIC-LOCATION:America/Los_Angeles
BEGIN:DAYLIGHT
TZOFFSETFROM:-0800
TZOFFSETTO:-0700
TZNAME:PDT
DTSTART:19700308T020000
RRULE:FREQ=YEARLY;BYMONTH=3;BYDAY=2SU
END:DAYLIGHT
BEGIN:STANDARD
TZOFFSETFROM:-0700
TZOFFSETTO:-0800
TZNAME:PST
DTSTART:19701101T020000
RRULE:FREQ=YEARLY;BYMONTH=11;BYDAY=1SU
END:STANDARD
END:VTIMEZONE
BEGIN:VEVENT
UID:1464587:Event:631007
DTSTAMP:20260421T202135Z
SUMMARY:Lecrae (WIN TICKETS)
DESCRIPTION:ENTER TO WIN A PAIR OF TICKETS. WINNER WILL BE DRAWN RANDO
 MLY AND ANNOUNCED 2 DAYS PRIOR TO EVENT.   \n\n\nTHURSDAY, AUG 20  L
 ecrae\n\nFox Theater -  Oakland, CA  08:00 PM\n>> BUY TICKETS \n\n\n\
 nFor more information visit http://trueskool.com/events/lecrae
DTSTART;TZID=America/Los_Angeles:20150820T200000
DTEND;TZID=America/Los_Angeles:20150820T230000
CATEGORIES:"bay area", oakland
LOCATION:Fox Theater, Oakland
WEBSITE:http://www.ticketmaster.com/event/1C004EC1E13B52C8?brand=anoth
 erplanet&camefrom=CFC_ANOTHERPLANET
URL:http://www.ticketmaster.com/event/1C004EC1E13B52C8?brand=anotherpl
 anet&camefrom=CFC_ANOTHERPLANET
CONTACT:
ORGANIZER:Another Planet Ent
ATTACH;FMTTYPE="image/jpeg":http://storage.ning.com/topology/rest/1.0/
 file/get/2247977764?profile=original
ATTENDEE;ROLE=REQ-PARTICIPANT;PARTSTAT=ACCEPTED;RSVP=TRUE;CN="Editor's
  Pick":http://trueskool.com/profile/RentheVinylArchaeologist
ATTENDEE;ROLE=REQ-PARTICIPANT;PARTSTAT=ACCEPTED;RSVP=TRUE;CN="Frank Vi
 loria":http://trueskool.com/profile/DJILLusive
ATTENDEE;ROLE=REQ-PARTICIPANT;PARTSTAT=ACCEPTED;RSVP=TRUE;CN="Elisa Bj
 eldanes":http://trueskool.com/profile/ElisaBjeldanes
ATTENDEE;ROLE=REQ-PARTICIPANT;PARTSTAT=ACCEPTED;RSVP=TRUE;CN=Easy:http
 ://trueskool.com/profile/DJEasy
ATTENDEE;ROLE=REQ-PARTICIPANT;PARTSTAT=ACCEPTED;RSVP=TRUE;CN=MrBayAgen
 t:http://trueskool.com/profile/Andre
END:VEVENT
END:VCALENDAR
