BEGIN:VCALENDAR
PRODID:NingEventWidget-v1
VERSION:2.0
METHOD:PUBLISH
BEGIN:VTIMEZONE
TZID:America/Los_Angeles
X-LIC-LOCATION:America/Los_Angeles
BEGIN:DAYLIGHT
TZOFFSETFROM:-0800
TZOFFSETTO:-0700
TZNAME:PDT
DTSTART:19700308T020000
RRULE:FREQ=YEARLY;BYMONTH=3;BYDAY=2SU
END:DAYLIGHT
BEGIN:STANDARD
TZOFFSETFROM:-0700
TZOFFSETTO:-0800
TZNAME:PST
DTSTART:19701101T020000
RRULE:FREQ=YEARLY;BYMONTH=11;BYDAY=1SU
END:STANDARD
END:VTIMEZONE
BEGIN:VEVENT
UID:1464587:Event:122976
DTSTAMP:20260420T103208Z
SUMMARY:Latino Film Series: La Ultima Ch'ulel & Ascend
DESCRIPTION:Ch'ulel (Jorge Creuheras Orozco, Mexico, 2011, 71min.) A b
 eautifully filmed journey to Chiapas, Mexico, the essence of the place
  and the soulful and spiritual connection several communities have to 
 this place.\nPreceded by the short Ascend (Jacqueline Medina Argote, U
 SA, 2011, 1min.)\n$10 gen. $8 students w/ID & seniors -- Advance Ticke
 ts Available--\nSee the full festival here: http://www.lapena.org/inde
 x.php?s=97&n=140\n\nFor more information visit http://trueskool.com/ev
 ents/latino-film-series-la-ultima-ch-ulel-ascend
DTSTART;TZID=America/Los_Angeles:20120614T210000
DTEND;TZID=America/Los_Angeles:20120614T223000
CATEGORIES:bay, area
LOCATION:La Peña Cultural Center, Berkeley. CA
WEBSITE:http://www.lapena.org/event/2141
URL:http://www.lapena.org/event/2141
CONTACT:(510) 849-2568
ORGANIZER;CN="La Peña Cultural Center":http://trueskool.com/profile/L
 aPenaCulturalCenter
ATTACH;FMTTYPE="image/jpeg":http://storage.ning.com/topology/rest/1.0/
 file/get/2247916730?profile=original
ATTENDEE;ROLE=REQ-PARTICIPANT;PARTSTAT=ACCEPTED;RSVP=TRUE;CN="La Peña
  Cultural Center":http://trueskool.com/profile/LaPenaCulturalCenter
END:VEVENT
END:VCALENDAR
