BEGIN:VCALENDAR
PRODID:NingEventWidget-v1
VERSION:2.0
METHOD:PUBLISH
BEGIN:VTIMEZONE
TZID:America/Los_Angeles
X-LIC-LOCATION:America/Los_Angeles
BEGIN:DAYLIGHT
TZOFFSETFROM:-0800
TZOFFSETTO:-0700
TZNAME:PDT
DTSTART:19700308T020000
RRULE:FREQ=YEARLY;BYMONTH=3;BYDAY=2SU
END:DAYLIGHT
BEGIN:STANDARD
TZOFFSETFROM:-0700
TZOFFSETTO:-0800
TZNAME:PST
DTSTART:19701101T020000
RRULE:FREQ=YEARLY;BYMONTH=11;BYDAY=1SU
END:STANDARD
END:VTIMEZONE
BEGIN:VEVENT
UID:1464587:Event:663851
DTSTAMP:20260420T170058Z
SUMMARY:LATE REGISTRATION at MEZZANINE
DESCRIPTION:Whatever|Forever & Candy Rain Present:  LATE REGISTRATION 
  Friday June 30th | 9PM  FREE w/ RSVP before 11PM   EARLY 2K HIP HOP &
  RNB, MUSIC & VIDEO DANCE PARTY!  DJ’s The CANDY RAIN, SEAN G., MARC
 ELLUS, NO NAME, & A VERY SPECIAL GUEST…    MEZZANINE | 444 JESSIE ST
 . | 9PM | 21+\n\nFor more information visit http://trueskool.com/event
 s/late-registration-at-mezzanine
DTSTART;TZID=America/Los_Angeles:20170630T210000
DTEND;TZID=America/Los_Angeles:20170701T020000
CATEGORIES:"san francisco", "bay area", "mezzanine sf"
LOCATION:Mezzanine, San Francisco, CA
WEBSITE:http://bit.ly/2sHaW9J
URL:http://bit.ly/2sHaW9J
CONTACT:
ORGANIZER;CN=MezzanineSF:http://trueskool.com/profile/MezzanineSF
ATTACH;FMTTYPE="image/jpeg":http://storage.ning.com/topology/rest/1.0/
 file/get/2248000849?profile=original
ATTENDEE;ROLE=REQ-PARTICIPANT;PARTSTAT=ACCEPTED;RSVP=TRUE;CN=Mezzanine
 SF:http://trueskool.com/profile/MezzanineSF
END:VEVENT
END:VCALENDAR
