BEGIN:VCALENDAR
PRODID:NingEventWidget-v1
VERSION:2.0
METHOD:PUBLISH
BEGIN:VTIMEZONE
TZID:America/Los_Angeles
X-LIC-LOCATION:America/Los_Angeles
BEGIN:DAYLIGHT
TZOFFSETFROM:-0800
TZOFFSETTO:-0700
TZNAME:PDT
DTSTART:19700308T020000
RRULE:FREQ=YEARLY;BYMONTH=3;BYDAY=2SU
END:DAYLIGHT
BEGIN:STANDARD
TZOFFSETFROM:-0700
TZOFFSETTO:-0800
TZNAME:PST
DTSTART:19701101T020000
RRULE:FREQ=YEARLY;BYMONTH=11;BYDAY=1SU
END:STANDARD
END:VTIMEZONE
BEGIN:VEVENT
UID:1464587:Event:674831
DTSTAMP:20260420T170017Z
SUMMARY:Lake Fest Oakland
DESCRIPTION:The 1st Annual LakeFest Oakland\n“This is Oakland”\nSa
 turday, June 23rd 2018 11am - 7pm\n\nLive Music | DJ’s | Kid’s Tow
 n | Artisan Market Place | Local Brews & Bites\n\nThe First Annual Lak
 eFest Oakland comes to the northern shore of Lake Merritt on Saturday,
  June 23rd 2018. Join us as we celebrate our beloved town and the arri
 val of Summer with a day full of live performances & DJ’s on two sta
 ges of music, a Kid’s Town featuring virtual reality games and engag
 ing activities for all ages, local libations, brews & bites and much m
 ore!\n\nLakeFest Oakland is excited to welcome homegrown talent includ
 ing live performances by Ajai Kasim with Oakland Future Trio, DJ Cecil
 , JAX, Rumbache and special surprise guests TBA! LakeFest is poised to
  be the quintessential Summer festival in the City of Oakland; bringin
 g together the talent, love and vibrancy of the town with something fo
 r everyone!\n\n1st Annual LakeFest Oakland\nSaturday, June 23rd 2018\n
 Lake Merritt BoatHouse, 568 Bellevue Ave Oakland CA\n11am - 7pm | Admi
 ssion Free & Open To All | Wheelchair Accessible |\nDogs On Leash OK\n
 \nFor more information visit http://trueskool.com/events/lake-fest-oak
 land
DTSTART;TZID=America/Los_Angeles:20180623T110000
DTEND;TZID=America/Los_Angeles:20180623T190000
CATEGORIES:lake, merritt, oakland, east, bay, the, town, yay, area, no
 rthern, california
LOCATION:Lake Merritt Boating Center
WEBSITE:http://www.lakefestoakland.com
URL:http://www.lakefestoakland.com
CONTACT:
ORGANIZER;CN="miss candi":http://trueskool.com/profile/misscandi
ATTACH;FMTTYPE="image/jpeg":http://storage.ning.com/topology/rest/1.0/
 file/get/2248006980?profile=original
ATTENDEE;ROLE=REQ-PARTICIPANT;PARTSTAT=ACCEPTED;RSVP=TRUE;CN="miss can
 di":http://trueskool.com/profile/misscandi
END:VEVENT
END:VCALENDAR
