BEGIN:VCALENDAR
PRODID:NingEventWidget-v1
VERSION:2.0
METHOD:PUBLISH
BEGIN:VTIMEZONE
TZID:America/Los_Angeles
X-LIC-LOCATION:America/Los_Angeles
BEGIN:DAYLIGHT
TZOFFSETFROM:-0800
TZOFFSETTO:-0700
TZNAME:PDT
DTSTART:19700308T020000
RRULE:FREQ=YEARLY;BYMONTH=3;BYDAY=2SU
END:DAYLIGHT
BEGIN:STANDARD
TZOFFSETFROM:-0700
TZOFFSETTO:-0800
TZNAME:PST
DTSTART:19701101T020000
RRULE:FREQ=YEARLY;BYMONTH=11;BYDAY=1SU
END:STANDARD
END:VTIMEZONE
BEGIN:VEVENT
UID:1464587:Event:555470
DTSTAMP:20260420T231744Z
SUMMARY:Krush Groove starring Ice Cube, E40, Dipset, Scarface and more
DESCRIPTION:\n FRIDAY, APR 17 Krush Groove  starring  Ice Cube E40\nBo
 ne Thugs-n-Harmony\nToo Short Dipset Scarface\nLuniz and more\n @ SAP 
 Center at San Jose \nLog on here http://bit.ly/1F3RJ2J for more info
 !\n\n\nFor more information visit http://trueskool.com/events/krush-gr
 oove
DTSTART;TZID=America/Los_Angeles:20150417T183000
DTEND;TZID=America/Los_Angeles:20150417T230000
CATEGORIES:"san francisco", "san jose", oakland, berkley, "bay area"
LOCATION:SAP Center at San Jose, San Jose
WEBSITE:http://www.ticketmaster.com/krush-groove-san-jose-california-0
 4-17-2015/event/1C004E3D08CF967C?artistid=1963850&majorcatid=10001&min
 orcatid=3&tm_link=artist_msg-0_1C004E3D08CF967C
URL:http://www.ticketmaster.com/krush-groove-san-jose-california-04-17
 -2015/event/1C004E3D08CF967C?artistid=1963850&majorcatid=10001&minorca
 tid=3&tm_link=artist_msg-0_1C004E3D08CF967C
CONTACT:
ORGANIZER:Live Nation
ATTACH;FMTTYPE="image/jpeg":http://storage.ning.com/topology/rest/1.0/
 file/get/2247976191?profile=original
ATTENDEE;ROLE=REQ-PARTICIPANT;PARTSTAT=ACCEPTED;RSVP=TRUE;CN=Frost:htt
 p://trueskool.com/profile/Frost
ATTENDEE;ROLE=REQ-PARTICIPANT;PARTSTAT=ACCEPTED;RSVP=TRUE;CN="Huy Hoan
 g":http://trueskool.com/profile/HuyHoang
ATTENDEE;ROLE=REQ-PARTICIPANT;PARTSTAT=ACCEPTED;RSVP=TRUE;CN="Donte Ha
 rrison":http://trueskool.com/profile/DonteHarrison
ATTENDEE;ROLE=REQ-PARTICIPANT;PARTSTAT=ACCEPTED;RSVP=TRUE;CN="Jon Schr
 oeder":http://trueskool.com/profile/JonSchroeder
ATTENDEE;ROLE=REQ-PARTICIPANT;PARTSTAT=ACCEPTED;RSVP=TRUE;CN="Brianna 
 M. Sylvers":http://trueskool.com/profile/BriannaMSylvers
ATTENDEE;ROLE=REQ-PARTICIPANT;PARTSTAT=ACCEPTED;RSVP=TRUE;CN="Joseph K
 im":http://trueskool.com/profile/JosephKim
ATTENDEE;ROLE=REQ-PARTICIPANT;PARTSTAT=ACCEPTED;RSVP=TRUE;CN="Eric Dur
 an":http://trueskool.com/profile/EricDuran
ATTENDEE;ROLE=REQ-PARTICIPANT;PARTSTAT=ACCEPTED;RSVP=TRUE;CN="jason le
 man":http://trueskool.com/profile/jasonleman
ATTENDEE;ROLE=REQ-PARTICIPANT;PARTSTAT=ACCEPTED;RSVP=TRUE;CN="Editor's
  Pick":http://trueskool.com/profile/RentheVinylArchaeologist
ATTENDEE;ROLE=REQ-PARTICIPANT;PARTSTAT=TENTATIVE;RSVP=TRUE;CN=Mooncric
 ket:http://trueskool.com/profile/Mooncricket
ATTENDEE;ROLE=REQ-PARTICIPANT;PARTSTAT=TENTATIVE;RSVP=TRUE;CN=Kimberly
 :http://trueskool.com/profile/Kimberly
END:VEVENT
END:VCALENDAR
