BEGIN:VCALENDAR
PRODID:NingEventWidget-v1
VERSION:2.0
METHOD:PUBLISH
BEGIN:VTIMEZONE
TZID:America/Los_Angeles
X-LIC-LOCATION:America/Los_Angeles
BEGIN:DAYLIGHT
TZOFFSETFROM:-0800
TZOFFSETTO:-0700
TZNAME:PDT
DTSTART:19700308T020000
RRULE:FREQ=YEARLY;BYMONTH=3;BYDAY=2SU
END:DAYLIGHT
BEGIN:STANDARD
TZOFFSETFROM:-0700
TZOFFSETTO:-0800
TZNAME:PST
DTSTART:19701101T020000
RRULE:FREQ=YEARLY;BYMONTH=11;BYDAY=1SU
END:STANDARD
END:VTIMEZONE
BEGIN:VEVENT
UID:1464587:Event:650141
DTSTAMP:20260420T145238Z
SUMMARY:KING
DESCRIPTION:KING\nEryn Allen Kane\nThe IndependentSan Francisco, CA\n
 \nSaturday, October 01, 2016\nShow: 9:00pm\n\n\nFor more information v
 isit http://trueskool.com/events/king
DTSTART;TZID=America/Los_Angeles:20161001T210000
DTEND;TZID=America/Los_Angeles:20161001T230000
CATEGORIES:"san francisco", oakland, berkley, "san jose", "bay area"
LOCATION:The Independent, San Francisco
WEBSITE:https://www.ticketfly.com/purchase/event/1199465?camefrom=CFC_
 ANOTHERPLANET_web&brand=anotherplanet&q=36771086-7602-4d12-b81f-deb11a
 6fa226&p=8699a5b9-9896-47c4-89c9-4f93049efef7&ts=1464548451&c=ticketfl
 y&e=0010a&rt=Safetynet&h=9c605fd0f2b0fff9864537033af8f50d
URL:https://www.ticketfly.com/purchase/event/1199465?camefrom=CFC_ANOT
 HERPLANET_web&brand=anotherplanet&q=36771086-7602-4d12-b81f-deb11a6fa2
 26&p=8699a5b9-9896-47c4-89c9-4f93049efef7&ts=1464548451&c=ticketfly&e=
 0010a&rt=Safetynet&h=9c605fd0f2b0fff9864537033af8f50d
CONTACT:
ORGANIZER;CN="Editor's Pick":http://trueskool.com/profile/RentheVinylA
 rchaeologist
ATTACH;FMTTYPE="image/jpeg":http://storage.ning.com/topology/rest/1.0/
 file/get/2247988356?profile=original
ATTENDEE;ROLE=REQ-PARTICIPANT;PARTSTAT=ACCEPTED;RSVP=TRUE;CN="Editor's
  Pick":http://trueskool.com/profile/RentheVinylArchaeologist
END:VEVENT
END:VCALENDAR
