BEGIN:VCALENDAR
PRODID:NingEventWidget-v1
VERSION:2.0
METHOD:PUBLISH
BEGIN:VTIMEZONE
TZID:America/Los_Angeles
X-LIC-LOCATION:America/Los_Angeles
BEGIN:DAYLIGHT
TZOFFSETFROM:-0800
TZOFFSETTO:-0700
TZNAME:PDT
DTSTART:19700308T020000
RRULE:FREQ=YEARLY;BYMONTH=3;BYDAY=2SU
END:DAYLIGHT
BEGIN:STANDARD
TZOFFSETFROM:-0700
TZOFFSETTO:-0800
TZNAME:PST
DTSTART:19701101T020000
RRULE:FREQ=YEARLY;BYMONTH=11;BYDAY=1SU
END:STANDARD
END:VTIMEZONE
BEGIN:VEVENT
UID:1464587:Event:334337
DTSTAMP:20260421T053151Z
SUMMARY:KING of KINGS 12 yr anniv on 4/20
DESCRIPTION:KING of KINGS 12 yr anniv on 4-20, sunday April 20((((((DJ
  EXPLOSION)))))))100% Dubplate only party4 Turntables, 15 minutes each
  sound,with 10 of Cali's best sound crew's:======================ONE B
 LOOD JAH WARRIOR TNTPAPALOTE COOYAHGUERRILLA TAKEOVER WBLK KURIOU
 S LONESTARONEWISE======================\n \n\nFor more information v
 isit http://trueskool.com/events/king-of-kings-12-yr-anniv-on-4-20
DTSTART;TZID=America/Los_Angeles:20140420T220000
DTEND;TZID=America/Los_Angeles:20140421T030000
CATEGORIES:the, new, parish
LOCATION:the New Parish, Oakland, Ca
WEBSITE:http://kingofkingsreggae.com
URL:http://kingofkingsreggae.com
CONTACT:
ORGANIZER;CN=SMOKE-1:http://trueskool.com/profile/SMOKE1
ATTACH;FMTTYPE="image/jpeg":http://storage.ning.com/topology/rest/1.0/
 file/get/2247959316?profile=original
ATTENDEE;ROLE=REQ-PARTICIPANT;PARTSTAT=ACCEPTED;RSVP=TRUE;CN=SMOKE-1:h
 ttp://trueskool.com/profile/SMOKE1
END:VEVENT
END:VCALENDAR
