BEGIN:VCALENDAR
PRODID:NingEventWidget-v1
VERSION:2.0
METHOD:PUBLISH
BEGIN:VTIMEZONE
TZID:America/Los_Angeles
X-LIC-LOCATION:America/Los_Angeles
BEGIN:DAYLIGHT
TZOFFSETFROM:-0800
TZOFFSETTO:-0700
TZNAME:PDT
DTSTART:19700308T020000
RRULE:FREQ=YEARLY;BYMONTH=3;BYDAY=2SU
END:DAYLIGHT
BEGIN:STANDARD
TZOFFSETFROM:-0700
TZOFFSETTO:-0800
TZNAME:PST
DTSTART:19701101T020000
RRULE:FREQ=YEARLY;BYMONTH=11;BYDAY=1SU
END:STANDARD
END:VTIMEZONE
BEGIN:VEVENT
UID:1464587:Event:123085
DTSTAMP:20260421T021453Z
SUMMARY:\"King of King's\" Presents: TANYA STEPHENS
DESCRIPTION:\"King of King's\" Presents: \nTANYA STEPHENS\nMystic Man
 , Laykay\nDJ's Jacques & Smoke One\n\nDoors 9pm, $10 - $15 \n\n\n\nFo
 r more information visit http://trueskool.com/events/king-of-king-s-pr
 esents-tanya-stephens
DTSTART;TZID=America/Los_Angeles:20120610T210000
DTEND;TZID=America/Los_Angeles:20120611T020000
CATEGORIES:berkeley, ca
LOCATION:Shattuck Down Low, Berkeley CA
WEBSITE:http://tanyastephens.eventbrite.com/
URL:http://tanyastephens.eventbrite.com/
CONTACT:
ORGANIZER;CN="miss candi":http://trueskool.com/profile/misscandi
ATTACH;FMTTYPE="image/jpeg":http://storage.ning.com/topology/rest/1.0/
 file/get/2247916743?profile=original
ATTENDEE;ROLE=REQ-PARTICIPANT;PARTSTAT=ACCEPTED;RSVP=TRUE;CN="miss can
 di":http://trueskool.com/profile/misscandi
END:VEVENT
END:VCALENDAR
