BEGIN:VCALENDAR
PRODID:NingEventWidget-v1
VERSION:2.0
METHOD:PUBLISH
BEGIN:VTIMEZONE
TZID:America/Los_Angeles
X-LIC-LOCATION:America/Los_Angeles
BEGIN:DAYLIGHT
TZOFFSETFROM:-0800
TZOFFSETTO:-0700
TZNAME:PDT
DTSTART:19700308T020000
RRULE:FREQ=YEARLY;BYMONTH=3;BYDAY=2SU
END:DAYLIGHT
BEGIN:STANDARD
TZOFFSETFROM:-0700
TZOFFSETTO:-0800
TZNAME:PST
DTSTART:19701101T020000
RRULE:FREQ=YEARLY;BYMONTH=11;BYDAY=1SU
END:STANDARD
END:VTIMEZONE
BEGIN:VEVENT
UID:1464587:Event:652725
DTSTAMP:20260420T115718Z
SUMMARY:King Lil G
DESCRIPTION: Tues. Aug. 16 \nKing Lil G\nEli Arbor & EAGLEBABEL\nSlim'
 s, SF doors 8pm/show 9pm\nTickets are $21 advance/$26 door \nTickets &
  info:\nhttp://www.slimspresents.com/event/king-lil-g-slims/\n\nFor mo
 re information visit http://trueskool.com/events/king-lil-g
DTSTART;TZID=America/Los_Angeles:20160816T200000
DTEND;TZID=America/Los_Angeles:20160816T230000
CATEGORIES:"bay area", "san francisco"
LOCATION:Slim's, SF
WEBSITE:http://www.slimspresents.com/event/king-lil-g-slims/
URL:http://www.slimspresents.com/event/king-lil-g-slims/
CONTACT:
ORGANIZER;CN="Editor's Pick":http://trueskool.com/profile/RentheVinylA
 rchaeologist
ATTACH;FMTTYPE="image/jpeg":http://storage.ning.com/topology/rest/1.0/
 file/get/2247990720?profile=original
ATTENDEE;ROLE=REQ-PARTICIPANT;PARTSTAT=ACCEPTED;RSVP=TRUE;CN="Editor's
  Pick":http://trueskool.com/profile/RentheVinylArchaeologist
END:VEVENT
END:VCALENDAR
