BEGIN:VCALENDAR
PRODID:NingEventWidget-v1
VERSION:2.0
METHOD:PUBLISH
BEGIN:VTIMEZONE
TZID:America/Los_Angeles
X-LIC-LOCATION:America/Los_Angeles
BEGIN:DAYLIGHT
TZOFFSETFROM:-0800
TZOFFSETTO:-0700
TZNAME:PDT
DTSTART:19700308T020000
RRULE:FREQ=YEARLY;BYMONTH=3;BYDAY=2SU
END:DAYLIGHT
BEGIN:STANDARD
TZOFFSETFROM:-0700
TZOFFSETTO:-0800
TZNAME:PST
DTSTART:19701101T020000
RRULE:FREQ=YEARLY;BYMONTH=11;BYDAY=1SU
END:STANDARD
END:VTIMEZONE
BEGIN:VEVENT
UID:1464587:Event:651638
DTSTAMP:20260420T135054Z
SUMMARY:KINDRED THE FAMILY SOUL
DESCRIPTION:KINDRED THE FAMILY SOUL\n Friday Sep 2, 2016 Doors: 7:30 P
 M  Show: 8:00 PM $34 - $69\n\nFriday Sep 2, 2016\nDoors: 9:45 PM  Show
 : 10:00 PM $34\n\nSaturday Sep 3, 2016 Doors: 7:00 PM  Show: 7:30 PM $
 39 - $69\n\nSaturday Sep 3, 2016 Doors: 9:15 PM  Show: 9:30 PM $39\n\n
 For more information visit http://trueskool.com/events/kindred-the-fam
 ily-soul-1
DTSTART;TZID=America/Los_Angeles:20160902T200000
DTEND;TZID=America/Los_Angeles:20160903T230000
CATEGORIES:"san francisco", oakland, berkley, "san jose", "bay area"
LOCATION:Yoshi's, Oakland
WEBSITE:http://www.yoshis.com/search/?q=KINDRED%20THE%20FAMILY%20SOUL
URL:http://www.yoshis.com/search/?q=KINDRED%20THE%20FAMILY%20SOUL
CONTACT:
ORGANIZER;CN="Editor's Pick":http://trueskool.com/profile/RentheVinylA
 rchaeologist
ATTACH;FMTTYPE="image/jpeg":http://storage.ning.com/topology/rest/1.0/
 file/get/2247989845?profile=original
ATTENDEE;ROLE=REQ-PARTICIPANT;PARTSTAT=ACCEPTED;RSVP=TRUE;CN="Editor's
  Pick":http://trueskool.com/profile/RentheVinylArchaeologist
END:VEVENT
END:VCALENDAR
