BEGIN:VCALENDAR
PRODID:NingEventWidget-v1
VERSION:2.0
METHOD:PUBLISH
BEGIN:VTIMEZONE
TZID:America/Los_Angeles
X-LIC-LOCATION:America/Los_Angeles
BEGIN:DAYLIGHT
TZOFFSETFROM:-0800
TZOFFSETTO:-0700
TZNAME:PDT
DTSTART:19700308T020000
RRULE:FREQ=YEARLY;BYMONTH=3;BYDAY=2SU
END:DAYLIGHT
BEGIN:STANDARD
TZOFFSETFROM:-0700
TZOFFSETTO:-0800
TZNAME:PST
DTSTART:19701101T020000
RRULE:FREQ=YEARLY;BYMONTH=11;BYDAY=1SU
END:STANDARD
END:VTIMEZONE
BEGIN:VEVENT
UID:1464587:Event:471912
DTSTAMP:20260420T202207Z
SUMMARY:Kindred The Family Soul (WIN TICKETS)
DESCRIPTION:  Saturday, December 6 Kindred The Family Soul\n7:30pm & 9
 :30pm $32\nPremier seating + Meet and Greet $59\nYoshi's Oakland 510 E
 mbarcadero West Jack London Square Oakland, CA 94607  » BUY TICKETS\n
 PREMIER SEATING + MEET and GREET tickets: Yoshi's will provide seating
  in the first two rows for the performance. The Meet and Greet (approx
 . 20 mins) will be one hour before the performance and will take place
  in the club.\n\nFor more information visit http://trueskool.com/event
 s/kindred-and-the-family-soul-win-tickets
DTSTART;TZID=America/Los_Angeles:20141206T193000
DTEND;TZID=America/Los_Angeles:20141206T230000
CATEGORIES:"bay area", oakland
LOCATION:Yoshi's, Oakland
WEBSITE:http://www.ticketfly.com/search/?q=Kindred+%2B+Yoshi%27s+%2B+O
 akland
URL:http://www.ticketfly.com/search/?q=Kindred+%2B+Yoshi%27s+%2B+Oakla
 nd
CONTACT:
ORGANIZER:Yoshi's
ATTACH;FMTTYPE="image/jpeg":http://storage.ning.com/topology/rest/1.0/
 file/get/2247970972?profile=original
ATTENDEE;ROLE=REQ-PARTICIPANT;PARTSTAT=ACCEPTED;RSVP=TRUE;CN="Tali Ben
 attar":http://trueskool.com/profile/TaliBenattar550
ATTENDEE;ROLE=REQ-PARTICIPANT;PARTSTAT=ACCEPTED;RSVP=TRUE;CN="Donte Ha
 rrison":http://trueskool.com/profile/DonteHarrison
ATTENDEE;ROLE=REQ-PARTICIPANT;PARTSTAT=ACCEPTED;RSVP=TRUE;CN="John Ngu
 yen":http://trueskool.com/profile/JohnNguyen
ATTENDEE;ROLE=REQ-PARTICIPANT;PARTSTAT=ACCEPTED;RSVP=TRUE;CN="Kimon Fl
 anagan":http://trueskool.com/profile/KimonFlanagan
ATTENDEE;ROLE=REQ-PARTICIPANT;PARTSTAT=ACCEPTED;RSVP=TRUE;CN="Editor's
  Pick":http://trueskool.com/profile/RentheVinylArchaeologist
ATTENDEE;ROLE=REQ-PARTICIPANT;PARTSTAT=TENTATIVE;RSVP=TRUE;CN="William
  Tyrone George":http://trueskool.com/profile/TyroneGeorge
END:VEVENT
END:VCALENDAR
