BEGIN:VCALENDAR
PRODID:NingEventWidget-v1
VERSION:2.0
METHOD:PUBLISH
BEGIN:VTIMEZONE
TZID:America/Los_Angeles
X-LIC-LOCATION:America/Los_Angeles
BEGIN:DAYLIGHT
TZOFFSETFROM:-0800
TZOFFSETTO:-0700
TZNAME:PDT
DTSTART:19700308T020000
RRULE:FREQ=YEARLY;BYMONTH=3;BYDAY=2SU
END:DAYLIGHT
BEGIN:STANDARD
TZOFFSETFROM:-0700
TZOFFSETTO:-0800
TZNAME:PST
DTSTART:19701101T020000
RRULE:FREQ=YEARLY;BYMONTH=11;BYDAY=1SU
END:STANDARD
END:VTIMEZONE
BEGIN:VEVENT
UID:1464587:Event:56538
DTSTAMP:20260422T011336Z
SUMMARY:KERO ONE, MYK, DOK2, DUMBFOUNDEAD live!
DESCRIPTION:Witness a RARE opportunity to see four internationally\nkn
 own hiphop artists under one roof in San Francisco on May 29th at the 
 Somarts Center.\n\nThis all ages event will feature artists Kero One (
 a DIY artist who has toured the globe with his music and garnered prop
 s from the likes of Will.i.am), Myk (a rapper and singer who is known 
 as the fourth member of Korean super group Epik High), Dok2 (one of th
 e youngest members to join Korea’s Movement Crew and release an albu
 m on Map The Soul label), and Dumbfoundead (renowned battle rapper and
  internet phenomenon, reaching millions of views on youtube). Together
 , these artists will perform songs such as Map The Soul and Asian Kids
 . Don't miss this event!\n\nPRESALE TIX: http://www.brownpapertickets.
 com/event/111129\n\nFor more information visit http://trueskool.com/ev
 ents/kero-one-myk-dok2-dumbfoundead
DTSTART;TZID=America/Los_Angeles:20100529T190000
DTEND;TZID=America/Los_Angeles:20100529T234500
CATEGORIES:hiphop, concert, -, all, ages
LOCATION:san francisco
WEBSITE:http://www.brownpapertickets.com/event/111129
URL:http://www.brownpapertickets.com/event/111129
CONTACT:
ORGANIZER:plug label
ATTACH;FMTTYPE="image/jpeg":http://storage.ning.com/topology/rest/1.0/
 file/get/2247877045?profile=original
ATTENDEE;ROLE=REQ-PARTICIPANT;PARTSTAT=ACCEPTED;RSVP=TRUE;CN=plug:http
 ://trueskool.com/profile/plug
END:VEVENT
END:VCALENDAR
