BEGIN:VCALENDAR
PRODID:NingEventWidget-v1
VERSION:2.0
METHOD:PUBLISH
BEGIN:VTIMEZONE
TZID:America/Los_Angeles
X-LIC-LOCATION:America/Los_Angeles
BEGIN:DAYLIGHT
TZOFFSETFROM:-0800
TZOFFSETTO:-0700
TZNAME:PDT
DTSTART:19700308T020000
RRULE:FREQ=YEARLY;BYMONTH=3;BYDAY=2SU
END:DAYLIGHT
BEGIN:STANDARD
TZOFFSETFROM:-0700
TZOFFSETTO:-0800
TZNAME:PST
DTSTART:19701101T020000
RRULE:FREQ=YEARLY;BYMONTH=11;BYDAY=1SU
END:STANDARD
END:VTIMEZONE
BEGIN:VEVENT
UID:1464587:Event:661710
DTSTAMP:20260421T011002Z
SUMMARY:Kehlani (WIN TICKETS)
DESCRIPTION:ENTER TO WIN A PAIR OF TICKETS. WINNER WILL BE DRAWN RANDO
 MLY AND ANNOUNCED 2 DAYS PRIOR TO EVENT.\n\nFriday, June 23, 2017 Swee
 tSexySavage World Tour KEHLANI\nElla Mai  Jahkoy :: Noodles\n Greek Th
 eatre Berkeley, CA Show: 7:00pm\n>> BUY TICKETS\n\n\nFor more informat
 ion visit http://trueskool.com/events/kehlani-3
DTSTART;TZID=America/Los_Angeles:20170623T190000
DTEND;TZID=America/Los_Angeles:20170623T230000
CATEGORIES:"san francisco", oakland, berkley, "san jose", "bay area"
LOCATION:Greek Theatre, Berkeley
WEBSITE:http://ticketmaster.com/event/1C00526A03E19672?camefrom=CFC_AN
 OTHERPLANET_web&brand=anotherplanet
URL:http://ticketmaster.com/event/1C00526A03E19672?camefrom=CFC_ANOTHE
 RPLANET_web&brand=anotherplanet
CONTACT:
ORGANIZER;CN="Editor's Pick":http://trueskool.com/profile/RentheVinylA
 rchaeologist
ATTACH;FMTTYPE="image/jpeg":http://storage.ning.com/topology/rest/1.0/
 file/get/2247995217?profile=original
ATTENDEE;ROLE=REQ-PARTICIPANT;PARTSTAT=ACCEPTED;RSVP=TRUE;CN="Tali Ben
 attar":http://trueskool.com/profile/TaliBenattar550
ATTENDEE;ROLE=REQ-PARTICIPANT;PARTSTAT=ACCEPTED;RSVP=TRUE;CN="Editor's
  Pick":http://trueskool.com/profile/RentheVinylArchaeologist
END:VEVENT
END:VCALENDAR
