BEGIN:VCALENDAR
PRODID:NingEventWidget-v1
VERSION:2.0
METHOD:PUBLISH
BEGIN:VTIMEZONE
TZID:America/Los_Angeles
X-LIC-LOCATION:America/Los_Angeles
BEGIN:DAYLIGHT
TZOFFSETFROM:-0800
TZOFFSETTO:-0700
TZNAME:PDT
DTSTART:19700308T020000
RRULE:FREQ=YEARLY;BYMONTH=3;BYDAY=2SU
END:DAYLIGHT
BEGIN:STANDARD
TZOFFSETFROM:-0700
TZOFFSETTO:-0800
TZNAME:PST
DTSTART:19701101T020000
RRULE:FREQ=YEARLY;BYMONTH=11;BYDAY=1SU
END:STANDARD
END:VTIMEZONE
BEGIN:VEVENT
UID:1464587:Event:657157
DTSTAMP:20260421T065808Z
SUMMARY:KEHLANI
DESCRIPTION:KEHLANI\nElla Mai Jahkoy :: Noodles\nBill Graham Civic Aud
 itoriumSan Francisco, CASaturday, June 17, 2017Show: 7:00pm\n\nFor mor
 e information visit http://trueskool.com/events/kehlani-1
DTSTART;TZID=America/Los_Angeles:20170617T190000
DTEND;TZID=America/Los_Angeles:20170617T230000
CATEGORIES:"san francisco", oakland, berkley, "san jose", "bay area"
LOCATION:Bill Graham Civic Auditorium, San Francisco
WEBSITE:http://www.ticketmaster.com/event/1C005187FE05647B?camefrom=CF
 C_ANOTHERPLANET_web&brand=anotherplanet
URL:http://www.ticketmaster.com/event/1C005187FE05647B?camefrom=CFC_AN
 OTHERPLANET_web&brand=anotherplanet
CONTACT:
ORGANIZER;CN="Editor's Pick":http://trueskool.com/profile/RentheVinylA
 rchaeologist
ATTACH;FMTTYPE="image/jpeg":http://storage.ning.com/topology/rest/1.0/
 file/get/2247991541?profile=original
ATTENDEE;ROLE=REQ-PARTICIPANT;PARTSTAT=ACCEPTED;RSVP=TRUE;CN="Editor's
  Pick":http://trueskool.com/profile/RentheVinylArchaeologist
END:VEVENT
END:VCALENDAR
