BEGIN:VCALENDAR
PRODID:NingEventWidget-v1
VERSION:2.0
METHOD:PUBLISH
BEGIN:VTIMEZONE
TZID:America/Los_Angeles
X-LIC-LOCATION:America/Los_Angeles
BEGIN:DAYLIGHT
TZOFFSETFROM:-0800
TZOFFSETTO:-0700
TZNAME:PDT
DTSTART:19700308T020000
RRULE:FREQ=YEARLY;BYMONTH=3;BYDAY=2SU
END:DAYLIGHT
BEGIN:STANDARD
TZOFFSETFROM:-0700
TZOFFSETTO:-0800
TZNAME:PST
DTSTART:19701101T020000
RRULE:FREQ=YEARLY;BYMONTH=11;BYDAY=1SU
END:STANDARD
END:VTIMEZONE
BEGIN:VEVENT
UID:1464587:Event:56925
DTSTAMP:20260421T194856Z
SUMMARY:KBLX Stone Soul Concert
DESCRIPTION:Sunday May 30th\nKBLX Stone Soul Concert\nGuests:\nRonald 
 Isley\nCharlie Wilson\nMint Condition\n\nSleep Train Pavilion\n2000 Ki
 rker Pass Road, Concord, CA\nPhone: (925) 676-8742\nShow @ 12pm\nAll A
 ges\nTickets: $45.75 - $97.95\n\nFor more information visit http://tru
 eskool.com/events/kblx-stone-soul-concert
DTSTART;TZID=America/Los_Angeles:20100530T120000
DTEND;TZID=America/Los_Angeles:20100530T230000
CATEGORIES:soul, "r&b", old, school
LOCATION:Sleep Train Pavilion, Concord, CA
WEBSITE:http://www.ticketmaster.com/event/1C004484284B3136?cce_tid=3F6
 F751D3C4C4C3F3F3F3F4E3F3F123F3C4770&oid=3F6F751D3C4C4C3F3F3F3F4E3F3F12
 3F3C4770&eid=420694&brand=livenation&artistid=735343&majorcatid=10001&
 minorcatid=202
URL:http://www.ticketmaster.com/event/1C004484284B3136?cce_tid=3F6F751
 D3C4C4C3F3F3F3F4E3F3F123F3C4770&oid=3F6F751D3C4C4C3F3F3F3F4E3F3F123F3C
 4770&eid=420694&brand=livenation&artistid=735343&majorcatid=10001&mino
 rcatid=202
CONTACT:(925) 676-8742
ORGANIZER;CN="Editor's Pick":http://trueskool.com/profile/RentheVinylA
 rchaeologist
ATTACH;FMTTYPE="image/jpeg":http://storage.ning.com/topology/rest/1.0/
 file/get/2247879333?profile=original
ATTENDEE;ROLE=REQ-PARTICIPANT;PARTSTAT=ACCEPTED;RSVP=TRUE;CN="Demetris
  Burton":http://trueskool.com/profile/DemetrisBurton
ATTENDEE;ROLE=REQ-PARTICIPANT;PARTSTAT=ACCEPTED;RSVP=TRUE;CN="Editor's
  Pick":http://trueskool.com/profile/RentheVinylArchaeologist
END:VEVENT
END:VCALENDAR
