BEGIN:VCALENDAR
PRODID:NingEventWidget-v1
VERSION:2.0
METHOD:PUBLISH
BEGIN:VTIMEZONE
TZID:America/Los_Angeles
X-LIC-LOCATION:America/Los_Angeles
BEGIN:DAYLIGHT
TZOFFSETFROM:-0800
TZOFFSETTO:-0700
TZNAME:PDT
DTSTART:19700308T020000
RRULE:FREQ=YEARLY;BYMONTH=3;BYDAY=2SU
END:DAYLIGHT
BEGIN:STANDARD
TZOFFSETFROM:-0700
TZOFFSETTO:-0800
TZNAME:PST
DTSTART:19701101T020000
RRULE:FREQ=YEARLY;BYMONTH=11;BYDAY=1SU
END:STANDARD
END:VTIMEZONE
BEGIN:VEVENT
UID:1464587:Event:365504
DTSTAMP:20260420T152532Z
SUMMARY:Kazbah benefit w/ Rob Garza & James Teej
DESCRIPTION:The KAZBAH FundraiserMain Room:ROB GARZA (Thievery Corpora
 tion)Hoj (All Day I Dream/ Listed)Mark Slee (House- Heads/ Listed)Papa
  Lu (Night Moves/ The Kazbah)The Loft:JAMES TEEJ (My Favorite Robot, T
 oronto)Chemical Ali (The Kazbah)Elz ( The Kazbah)Visuals by allofitnow
 !100% of the proceeds go to benefit the KAZBAH 2014 on the Playa!The K
 azbah is a burning man sound camp and artist collective with an emphas
 is on healing. The Kazbah is based out of San Francisco and operating 
 in Black Rock City and beyond. 2013 was our maiden voyage to The Playa
  and it was clear it we were onto something big. After several success
 ful underground events, we are excited to bring you our first public e
 vent at none other than one of the premier night clubs in San Francisc
 o, Public Works.Rob Garza- As one half of electronic music pioneers/p
 roducers Thievery Corporation, he has been at the forefront of music a
 nd has traveled the globe performing, remixing, djing, recording and c
 omposing.Since Garza’s recent relocation to San Francisco, he has be
 gun a re-exploration of his love for electronic music and beats focusi
 ng on Nu-Disco, Cosmic Boogie while keeping very groove oriented and o
 uter-national based rhythms. Recently he has been djing and remixing, 
 taking things to an even more spaced out and trippy level.James Teej B
 ioJames Teej is a 32 year old Canadian born electronic music artist, p
 roducer and DJ currently residing in Toronto, Canada. With a career th
 at already spans over 15 years and with over 15 years of professional 
 music training, James has been a die hard music enthusiast for all thi
 ngs electronic, and is fast becoming one of Canada’s rising influent
 ial stars in the global underground music scene.In 2008, James began r
 eleasing his innovative sound to the world on what has now become a lo
 ng list of respected recording labels including: Rekids, My Favorite R
 obot Records, Rebirth Records, Supernature, We Play House, No.19 Music
 , Galaktika Records, Connect Four Records, and many more.Constantly pu
 shing sonic boundaries, all the while exploring the deepest recesses o
 f house and techno, James’ music has been enjoyed the world over. An
 d with highly successful remixes for such artists as Trentemoller, Adu
 ltnapper, Toby Tobias, Kenny Glasgow (of Art Department), My Favorite 
 Robot, Patrick Zigon, and more, James has also become a highly sought 
 after remixer for labels all around the world.With track support from 
 the worlds top DJs and producers, a list that already includes Laurent
  Garnier, Radio Slave, Carl Cox, Danny Tenaglia, Osunlade, Steve Lawle
 r, Jamie Jones, Seth Troxler, Damian Lazarus, and many more, James is 
 carving out his place in electronic music.With this amazing level of w
 orldwide support, James looks to continue his journey of creating high
 ly emotive music that will continue to touch people the world over, in
  clubs, on the radio, at home, across borders, and cultures.\n\nFor mo
 re information visit http://trueskool.com/events/kazbah-benefit-w-rob-
 garza-james-teej
DTSTART;TZID=America/Los_Angeles:20140606T213000
DTEND;TZID=America/Los_Angeles:20140607T153000
CATEGORIES:house, music, public, works, rob, garza, james, teej, under
 ground, deep, tech, techno
LOCATION:Public Works, SF
WEBSITE:https://www.facebook.com/PublicWorksSF?v=app_179585568763105&a
 pp_data=eventId%3D568551%26source%3DfbTfly%26medium%3DampEventBuyTix%2
 6rt%3D%26fb_action_ids%3D
URL:https://www.facebook.com/PublicWorksSF?v=app_179585568763105&app_d
 ata=eventId%3D568551%26source%3DfbTfly%26medium%3DampEventBuyTix%26rt%
 3D%26fb_action_ids%3D
CONTACT:
ORGANIZER;CN="Louie B":http://trueskool.com/profile/LouieB
ATTACH;FMTTYPE="image/jpeg":http://storage.ning.com/topology/rest/1.0/
 file/get/2247962187?profile=original
ATTENDEE;ROLE=REQ-PARTICIPANT;PARTSTAT=ACCEPTED;RSVP=TRUE;CN="Louie B"
 :http://trueskool.com/profile/LouieB
END:VEVENT
END:VCALENDAR
