BEGIN:VCALENDAR
PRODID:NingEventWidget-v1
VERSION:2.0
METHOD:PUBLISH
BEGIN:VTIMEZONE
TZID:America/Los_Angeles
X-LIC-LOCATION:America/Los_Angeles
BEGIN:DAYLIGHT
TZOFFSETFROM:-0800
TZOFFSETTO:-0700
TZNAME:PDT
DTSTART:19700308T020000
RRULE:FREQ=YEARLY;BYMONTH=3;BYDAY=2SU
END:DAYLIGHT
BEGIN:STANDARD
TZOFFSETFROM:-0700
TZOFFSETTO:-0800
TZNAME:PST
DTSTART:19701101T020000
RRULE:FREQ=YEARLY;BYMONTH=11;BYDAY=1SU
END:STANDARD
END:VTIMEZONE
BEGIN:VEVENT
UID:1464587:Event:647169
DTSTAMP:20260421T035901Z
SUMMARY:KAYTRANADA
DESCRIPTION:KAYTRANADAPRESENTED BY DJ DIALS AT MEZZANINE\nMEZZANINEFRI
 DAY, MAY 27, 2016 AT 9:00 PM (PDT)SAN FRANCISCO, CA\n\nFor more inform
 ation visit http://trueskool.com/events/kaytranada
DTSTART;TZID=America/Los_Angeles:20160527T210000
DTEND;TZID=America/Los_Angeles:20160527T230000
CATEGORIES:"san francisco", oakland, berkley, "san jose", "bay area"
LOCATION:Mezzanine, San Francisco
WEBSITE:http://www.eventbrite.com/e/kaytranada-presented-by-dj-dials-a
 t-mezzanine-tickets-23306994849?aff=mezzsite
URL:http://www.eventbrite.com/e/kaytranada-presented-by-dj-dials-at-me
 zzanine-tickets-23306994849?aff=mezzsite
CONTACT:
ORGANIZER;CN="Editor's Pick":http://trueskool.com/profile/RentheVinylA
 rchaeologist
ATTACH;FMTTYPE="image/jpeg":http://storage.ning.com/topology/rest/1.0/
 file/get/2247988709?profile=original
ATTENDEE;ROLE=REQ-PARTICIPANT;PARTSTAT=ACCEPTED;RSVP=TRUE;CN="Editor's
  Pick":http://trueskool.com/profile/RentheVinylArchaeologist
END:VEVENT
END:VCALENDAR
