BEGIN:VCALENDAR
PRODID:NingEventWidget-v1
VERSION:2.0
METHOD:PUBLISH
BEGIN:VTIMEZONE
TZID:America/Los_Angeles
X-LIC-LOCATION:America/Los_Angeles
BEGIN:DAYLIGHT
TZOFFSETFROM:-0800
TZOFFSETTO:-0700
TZNAME:PDT
DTSTART:19700308T020000
RRULE:FREQ=YEARLY;BYMONTH=3;BYDAY=2SU
END:DAYLIGHT
BEGIN:STANDARD
TZOFFSETFROM:-0700
TZOFFSETTO:-0800
TZNAME:PST
DTSTART:19701101T020000
RRULE:FREQ=YEARLY;BYMONTH=11;BYDAY=1SU
END:STANDARD
END:VTIMEZONE
BEGIN:VEVENT
UID:1464587:Event:644667
DTSTAMP:20260420T133540Z
SUMMARY:KATCHAFIRE / MYSTIC ROOTS BAND
DESCRIPTION:KATCHAFIRE / MYSTIC ROOTS BAND\nTuesday, May 17, 2016Doors
 : 7:00PM |Show: 8:00PM1270 Sutter StreetSan Francisco, CA 94105414-777
 -1715SOCIAL HALL SF\n\nFor more information visit http://trueskool.com
 /events/katchafire-mystic-roots-band
DTSTART;TZID=America/Los_Angeles:20160517T200000
DTEND;TZID=America/Los_Angeles:20160517T230000
CATEGORIES:"san francisco", oakland, berkley, "san jose", "bay area"
LOCATION:Social Hall, San Francisco
WEBSITE:http://www.axs.com/events/307179/katchafire-mystic-roots-band-
 tickets?skin=goldenvoice
URL:http://www.axs.com/events/307179/katchafire-mystic-roots-band-tick
 ets?skin=goldenvoice
CONTACT:
ORGANIZER;CN="Editor's Pick":http://trueskool.com/profile/RentheVinylA
 rchaeologist
ATTACH;FMTTYPE="image/jpeg":http://storage.ning.com/topology/rest/1.0/
 file/get/2247985066?profile=original
ATTENDEE;ROLE=REQ-PARTICIPANT;PARTSTAT=ACCEPTED;RSVP=TRUE;CN="Editor's
  Pick":http://trueskool.com/profile/RentheVinylArchaeologist
END:VEVENT
END:VCALENDAR
