BEGIN:VCALENDAR
PRODID:NingEventWidget-v1
VERSION:2.0
METHOD:PUBLISH
BEGIN:VTIMEZONE
TZID:America/Los_Angeles
X-LIC-LOCATION:America/Los_Angeles
BEGIN:DAYLIGHT
TZOFFSETFROM:-0800
TZOFFSETTO:-0700
TZNAME:PDT
DTSTART:19700308T020000
RRULE:FREQ=YEARLY;BYMONTH=3;BYDAY=2SU
END:DAYLIGHT
BEGIN:STANDARD
TZOFFSETFROM:-0700
TZOFFSETTO:-0800
TZNAME:PST
DTSTART:19701101T020000
RRULE:FREQ=YEARLY;BYMONTH=11;BYDAY=1SU
END:STANDARD
END:VTIMEZONE
BEGIN:VEVENT
UID:1464587:Event:117002
DTSTAMP:20260420T014709Z
SUMMARY:Katchafire @ Mezzanine SF 4/18 w/Common Kings
DESCRIPTION:\nKATCHAFIRE... LIVE in San Francisco... Wednesday, 04.18.
 12. with COMMON KINGS & K'NOVA and special guest DJ Irie Dole! Mezzani
 ne, SF. $27/Adv, 21+.Katchafire is a reggae band from Hamilton, New Ze
 aland. They present an infusion of the roots reggae lineage with an un
 deniably Maori sound. They feature Logan Bell (Guitar, Vocals), Jamey 
 Ferguson (Keyboards, Saxophone, Vocals), Haani Totorewa (Keyboards, Gu
 itar, Vocals), Grenville Bell, (Lead Guitar) Ara Adams-Taratewa (Bass)
 , Jordan Bell (Drums), and Leon Davey (Percussion, Harmonica, Vocals).
    From humble beginnings ‘jamming’ in a garage, Katchafire is a 
 melting pot of unique members, including two generations of one family
  and diverse musical perspectives – yet this blend is exquisitely al
 igned with the essence of reggae which can be an expression of social 
 and political persuasions, hardship and pain, relaxation and reflectio
 n.   Dubbed New Zealand’s hardest working band by national media, K
 atchafire have now completed numerous national and seven international
  tours. The band has moved audiences around the globe with three tours
  in New Caledonia, one tour in each Fiji and Hawaii and 10 Australian 
 tours.  Now Katchafire are poised to extend their unique reggae style,
  sound and success to the ‘big two’ – USA/Hawaii and UK/Europe. 
 Late this month, Katchafire will begin their US/Hawaii tour playing at
  Hawaii’s biggest concert event of the year at the Waikiki Shell in 
 Honolulu then onto Big Island, Kona and Maui.\n\nPresented by Earshot 
 Entertainment, Island Sol, & Angel Magik\n\n\n\n\n\nFor more informati
 on visit http://trueskool.com/events/katchafire-mezzanine-sf-4-18-w-co
 mmon-kings
DTSTART;TZID=America/Los_Angeles:20120418T210000
DTEND;TZID=America/Los_Angeles:20120419T020000
CATEGORIES:san, francisco, ca
LOCATION:Mezzanine, SF
WEBSITE:http://katchafiresf-mezzsite.eventbrite.com/
URL:http://katchafiresf-mezzsite.eventbrite.com/
CONTACT:
ORGANIZER:Earshot Entertainment
ATTACH;FMTTYPE="image/jpeg":http://storage.ning.com/topology/rest/1.0/
 file/get/2247910111?profile=original
ATTENDEE;ROLE=REQ-PARTICIPANT;PARTSTAT=ACCEPTED;RSVP=TRUE;CN="Mars Tod
 ay":http://trueskool.com/profile/MrMarsToday
END:VEVENT
END:VCALENDAR
