BEGIN:VCALENDAR
PRODID:NingEventWidget-v1
VERSION:2.0
METHOD:PUBLISH
BEGIN:VTIMEZONE
TZID:America/Los_Angeles
X-LIC-LOCATION:America/Los_Angeles
BEGIN:DAYLIGHT
TZOFFSETFROM:-0800
TZOFFSETTO:-0700
TZNAME:PDT
DTSTART:19700308T020000
RRULE:FREQ=YEARLY;BYMONTH=3;BYDAY=2SU
END:DAYLIGHT
BEGIN:STANDARD
TZOFFSETFROM:-0700
TZOFFSETTO:-0800
TZNAME:PST
DTSTART:19701101T020000
RRULE:FREQ=YEARLY;BYMONTH=11;BYDAY=1SU
END:STANDARD
END:VTIMEZONE
BEGIN:VEVENT
UID:1464587:Event:648067
DTSTAMP:20260420T152026Z
SUMMARY:Karl Denson's Tiny Universe performs Prince's \"Dirty Mind\"
DESCRIPTION: ENTER TO WIN A PAIR OF TICKETS. WINNER WILL BE DRAWN RAND
 OMLY AND ANNOUNCED 2 DAYS PRIOR TO EVENT.     SATURDAY, MAY 7 Karl D
 enson's Tiny Universe performs Prince's \"Dirty Mind\" featuring Ziek 
 McCarter of Con Brio\n\n@ The Fillmore, San Francisco Doors open at 8p
 m >> BUY TICKETS\n\nFor more information visit http://trueskool.com/ev
 ents/karl-denson-s-tiny-universe-performs-prince-s-dirty-mind
DTSTART;TZID=America/Los_Angeles:20160507T200000
DTEND;TZID=America/Los_Angeles:20160507T230000
CATEGORIES:"bay area", "san francisco"
LOCATION:The Fillmore, SF
WEBSITE:http://concerts1.livenation.com/event/1C005078E9154BE5
URL:http://concerts1.livenation.com/event/1C005078E9154BE5
CONTACT:
ORGANIZER:Live Nation
ATTACH;FMTTYPE="image/jpeg":http://storage.ning.com/topology/rest/1.0/
 file/get/2247988018?profile=original
ATTENDEE;ROLE=REQ-PARTICIPANT;PARTSTAT=ACCEPTED;RSVP=TRUE;CN="Emo Reyn
 a":http://trueskool.com/profile/EmoReyna
ATTENDEE;ROLE=REQ-PARTICIPANT;PARTSTAT=ACCEPTED;RSVP=TRUE;CN="Editor's
  Pick":http://trueskool.com/profile/RentheVinylArchaeologist
END:VEVENT
END:VCALENDAR
