BEGIN:VCALENDAR
PRODID:NingEventWidget-v1
VERSION:2.0
METHOD:PUBLISH
BEGIN:VTIMEZONE
TZID:America/Los_Angeles
X-LIC-LOCATION:America/Los_Angeles
BEGIN:DAYLIGHT
TZOFFSETFROM:-0800
TZOFFSETTO:-0700
TZNAME:PDT
DTSTART:19700308T020000
RRULE:FREQ=YEARLY;BYMONTH=3;BYDAY=2SU
END:DAYLIGHT
BEGIN:STANDARD
TZOFFSETFROM:-0700
TZOFFSETTO:-0800
TZNAME:PST
DTSTART:19701101T020000
RRULE:FREQ=YEARLY;BYMONTH=11;BYDAY=1SU
END:STANDARD
END:VTIMEZONE
BEGIN:VEVENT
UID:1464587:Event:657302
DTSTAMP:20260421T052505Z
SUMMARY:Karl Denson’s 60th Birthday Bash
DESCRIPTION:\nKarl Denson’s 60th Birthday Bash FeaturingThe Tiny Uni
 verseNicki BluhmLuther DickinsonMike DillonMiles DoughtyBernard Fowler
 Jackie GreeneKyle McDonaldIvan NevilleRymo& more to be announced\nThe 
 Fillmore, San Francisco, CATue, Dec 27, 2016 08:00 PM Add to Calendar\
 n\nFor more information visit http://trueskool.com/events/karl-denson-
 s-60th-birthday-bash
DTSTART;TZID=America/Los_Angeles:20161227T200000
DTEND;TZID=America/Los_Angeles:20161227T234500
CATEGORIES:"san francisco", oakland, berkley, "san jose", "bay area"
LOCATION:The Fillmore, Oakland
WEBSITE:http://concerts.livenation.com/event/1C00516B01336BBA
URL:http://concerts.livenation.com/event/1C00516B01336BBA
CONTACT:
ORGANIZER;CN="Editor's Pick":http://trueskool.com/profile/RentheVinylA
 rchaeologist
ATTACH;FMTTYPE="image/jpeg":http://storage.ning.com/topology/rest/1.0/
 file/get/2247993429?profile=original
ATTENDEE;ROLE=REQ-PARTICIPANT;PARTSTAT=ACCEPTED;RSVP=TRUE;CN="Editor's
  Pick":http://trueskool.com/profile/RentheVinylArchaeologist
END:VEVENT
END:VCALENDAR
