BEGIN:VCALENDAR
PRODID:NingEventWidget-v1
VERSION:2.0
METHOD:PUBLISH
BEGIN:VTIMEZONE
TZID:America/Los_Angeles
X-LIC-LOCATION:America/Los_Angeles
BEGIN:DAYLIGHT
TZOFFSETFROM:-0800
TZOFFSETTO:-0700
TZNAME:PDT
DTSTART:19700308T020000
RRULE:FREQ=YEARLY;BYMONTH=3;BYDAY=2SU
END:DAYLIGHT
BEGIN:STANDARD
TZOFFSETFROM:-0700
TZOFFSETTO:-0800
TZNAME:PST
DTSTART:19701101T020000
RRULE:FREQ=YEARLY;BYMONTH=11;BYDAY=1SU
END:STANDARD
END:VTIMEZONE
BEGIN:VEVENT
UID:1464587:Event:324993
DTSTAMP:20260421T050847Z
SUMMARY:K Theory
DESCRIPTION:K Theory\nTYR, Tasty Treat, G-Wayt, + special guest to be 
 announced\nApril 3, 2014 Thursday Time: 8:30 Pm Doors / 9:00 Pm Shows\
 nCost: $18 - $20\n\nK Theory is the trio of Malcolm Anthony (vocals), 
 Dylan Lewman (sampling, live conducting), and Dustin Musser (Keys, sam
 pling). This San Francisco based group has made serious waves and play
 ed shows all over the continent. With chart topping singles and major 
 label released remixes, they are heavily respected amongst the intelli
 gent bass and hip hop scenes.\nWith an unbelievably unique live show, 
 the act has sold an astounding number of tickets in 2013 and played ma
 ny major festivals. With top releases on OWSLA, Simplify and their own
  homegrown K Theory Music label, they have spread their music to all c
 orners of the globe and created an impenetrable brand.\n\nhttps://soun
 dcloud.com/ktheory\n \nVenue:\nThe Independent\n628 Divisadero St., 
 \nSan Francisco, California 94117\n415-226-8435\nhttp://www.theindepen
 dentsf.com\nwww.theindependentsf.com/event/454687-k-theory-san-francis
 co/\n\nFor more information visit http://trueskool.com/events/k-theory
DTSTART;TZID=America/Los_Angeles:20140403T210000
DTEND;TZID=America/Los_Angeles:20140404T010000
CATEGORIES:k, theory, tyr, tasty, treat, g-wayt
LOCATION:San Francisco
WEBSITE:http://ticketf.ly/1i0XUbM
URL:http://ticketf.ly/1i0XUbM
CONTACT:415-226-8435
ORGANIZER:Makaela Susnow
ATTACH;FMTTYPE="image/jpeg":http://storage.ning.com/topology/rest/1.0/
 file/get/2247958498?profile=original
ATTENDEE;ROLE=REQ-PARTICIPANT;PARTSTAT=ACCEPTED;RSVP=TRUE;CN="Ruth A":
 http://trueskool.com/profile/RuthA
END:VEVENT
END:VCALENDAR
