BEGIN:VCALENDAR
PRODID:NingEventWidget-v1
VERSION:2.0
METHOD:PUBLISH
BEGIN:VTIMEZONE
TZID:America/Los_Angeles
X-LIC-LOCATION:America/Los_Angeles
BEGIN:DAYLIGHT
TZOFFSETFROM:-0800
TZOFFSETTO:-0700
TZNAME:PDT
DTSTART:19700308T020000
RRULE:FREQ=YEARLY;BYMONTH=3;BYDAY=2SU
END:DAYLIGHT
BEGIN:STANDARD
TZOFFSETFROM:-0700
TZOFFSETTO:-0800
TZNAME:PST
DTSTART:19701101T020000
RRULE:FREQ=YEARLY;BYMONTH=11;BYDAY=1SU
END:STANDARD
END:VTIMEZONE
BEGIN:VEVENT
UID:1464587:Event:332841
DTSTAMP:20260421T021954Z
SUMMARY:K Theory LIVE, TYR, TastyTreat, Nate Mezmer, and G-Wayt at The
  Independent
DESCRIPTION:Get tickets:Â http://ticketf.ly/1i0XUbMDetails: K Theory a
 tÂ The Independentâ–²K TheoryÂ -Â K Theory is the trio of Malcolm Anth
 ony (vocals), Dylan Lewman (sampling, live conducting), and Dustin Mus
 ser (Keys, sampling). This San Francisco based group has made serious 
 waves and played shows all over the continent. With chart topping sing
 les and major label released remixes, they are heavily respected among
 st the intelligent bass and hip hop scenes.http://soundcloud.com/ktheo
 ryhttp://twitter.com/ktheorymusichttp://facebook.com/ktheoryâ–²TYRÂ -Â
  http://www.soundcloud.com/tyrdubstephttp://www.twitter.com/TYRmusicâ–
 ²TastyTreatÂ -Â http://soundcloud.com/tastytreatmusichttp://twitter.co
 m/TastyTreatMusicâ–²Nate MezmerÂ ->Â Nate Mezmer (Music Page)Â http://
 Soundcloud.com/NateMezmer\n\nFor more information visit http://truesko
 ol.com/events/k-theory-live-tyr-tastytreat-nate-mezmer-and-g-wayt-at-t
 he
DTSTART;TZID=America/Los_Angeles:20140403T210000
DTEND;TZID=America/Los_Angeles:20140404T020000
CATEGORIES:san, francisco
LOCATION:The Independent, San Francisco, CA
WEBSITE:
URL:
CONTACT:
ORGANIZER;CN="FREE CITY":http://trueskool.com/profile/JohnDunsing
ATTACH;FMTTYPE="image/jpeg":http://storage.ning.com/topology/rest/1.0/
 file/get/2247958498?profile=original
ATTENDEE;ROLE=REQ-PARTICIPANT;PARTSTAT=ACCEPTED;RSVP=TRUE;CN="FREE CIT
 Y":http://trueskool.com/profile/JohnDunsing
END:VEVENT
END:VCALENDAR
