BEGIN:VCALENDAR
PRODID:NingEventWidget-v1
VERSION:2.0
METHOD:PUBLISH
BEGIN:VTIMEZONE
TZID:America/Los_Angeles
X-LIC-LOCATION:America/Los_Angeles
BEGIN:DAYLIGHT
TZOFFSETFROM:-0800
TZOFFSETTO:-0700
TZNAME:PDT
DTSTART:19700308T020000
RRULE:FREQ=YEARLY;BYMONTH=3;BYDAY=2SU
END:DAYLIGHT
BEGIN:STANDARD
TZOFFSETFROM:-0700
TZOFFSETTO:-0800
TZNAME:PST
DTSTART:19701101T020000
RRULE:FREQ=YEARLY;BYMONTH=11;BYDAY=1SU
END:STANDARD
END:VTIMEZONE
BEGIN:VEVENT
UID:1464587:Event:545258
DTSTAMP:20260420T214423Z
SUMMARY:K. Michelle (Atlanta)
DESCRIPTION:\nDate\nLocation\nEvent Details\nFind Tickets\n\n\nMAR  
 \n12\nTHU\n\nFox Theatre AtlantaAtlanta, GA08:00 PM\n\nK. Michelle\nS
 ee Ticketson Partner Site\n\n\n\n\n\nFor more information visit http:/
 /trueskool.com/events/k-michelle-atlanta
DTSTART;TZID=America/Los_Angeles:20150312T200000
DTEND;TZID=America/Los_Angeles:20150312T230000
CATEGORIES:atlanta, georgia, atl
LOCATION:Fox Theater, Atlanta
WEBSITE:http://www.ticketmaster.com/partner_redirect?v=8TeL-1zBOyUeKC6
 7siuhlHHCTIfdNmuLT7tlB7P-aYS60ovo-Y41fZutww_MMvWdF6TJ7cBE9wBry5bmO6iG4
 sHPU3igtSeJhSXj1GS4zALIYQKUx6wBx9vLKc_-05A1o1mJchQu82UtvJMeo4Wf2rtuXkE
 0NVhxOidihqBc-8FDIU6vHkOECvL70eduCZYU3w4A7xJL9AIGv9ReeVz6kVFiDoULIDvo0
 IJWi3SKFFF3e2EOWAyjRTr1NKt0t86dbGxJC47c7lY6FbQB_5Fh&eventid=0E004E36B8
 31DF58&artistid=1504580&artistname=K.%20Michelle
URL:http://www.ticketmaster.com/partner_redirect?v=8TeL-1zBOyUeKC67siu
 hlHHCTIfdNmuLT7tlB7P-aYS60ovo-Y41fZutww_MMvWdF6TJ7cBE9wBry5bmO6iG4sHPU
 3igtSeJhSXj1GS4zALIYQKUx6wBx9vLKc_-05A1o1mJchQu82UtvJMeo4Wf2rtuXkE0NVh
 xOidihqBc-8FDIU6vHkOECvL70eduCZYU3w4A7xJL9AIGv9ReeVz6kVFiDoULIDvo0IJWi
 3SKFFF3e2EOWAyjRTr1NKt0t86dbGxJC47c7lY6FbQB_5Fh&eventid=0E004E36B831DF
 58&artistid=1504580&artistname=K.%20Michelle
CONTACT:
ORGANIZER;CN="Editor's Pick":http://trueskool.com/profile/RentheVinylA
 rchaeologist
ATTACH;FMTTYPE="image/jpeg":http://storage.ning.com/topology/rest/1.0/
 file/get/2247973407?profile=original
ATTENDEE;ROLE=REQ-PARTICIPANT;PARTSTAT=ACCEPTED;RSVP=TRUE;CN="Editor's
  Pick":http://trueskool.com/profile/RentheVinylArchaeologist
END:VEVENT
END:VCALENDAR
