BEGIN:VCALENDAR
PRODID:NingEventWidget-v1
VERSION:2.0
METHOD:PUBLISH
BEGIN:VTIMEZONE
TZID:America/Los_Angeles
X-LIC-LOCATION:America/Los_Angeles
BEGIN:DAYLIGHT
TZOFFSETFROM:-0800
TZOFFSETTO:-0700
TZNAME:PDT
DTSTART:19700308T020000
RRULE:FREQ=YEARLY;BYMONTH=3;BYDAY=2SU
END:DAYLIGHT
BEGIN:STANDARD
TZOFFSETFROM:-0700
TZOFFSETTO:-0800
TZNAME:PST
DTSTART:19701101T020000
RRULE:FREQ=YEARLY;BYMONTH=11;BYDAY=1SU
END:STANDARD
END:VTIMEZONE
BEGIN:VEVENT
UID:1464587:Event:651142
DTSTAMP:20260420T141246Z
SUMMARY:K Michelle at Mezzanine
DESCRIPTION:ENTER TO WIN A PAIR OF TICKETS. WINNER WILL BE DRAWN RANDO
 MLY AND ANNOUNCED 2 DAYS PRIOR TO EVENT.   \n\nWEDNESDAY, AUG 10 Ano
 ther Planet Entertainment Presents K. MICHELLE\n+ PJ\n\n@ Mezzanine, S
 an Francisco Street: 444 Jessie, San Francisco, CA 21+  >> BUY TICKET
 S\n\n\nK. Michelle has certainly got every reason to be confident. Th
 e Memphis, TN native’s second album, Anybody Wanna Buy a Heart?, bow
 ed at #1 on Billboard’s R&B chart and #6 on the Billboard Top 200, e
 ventually becoming the “best-selling female R&B album of 2014.” Ro
 lling Stone placed it among the “Top 20 R&B Albums of the Year,” w
 hile Complex, Washington Post, and more extolled it. Only a year prior
 , her major label debut Rebellious Soul earned the distinction of beco
 ming the highest Top 200 entry for a female R&B singer’s debut since
  2001, also coming in at #1 on Billboard’s R&B chart and #2 on the B
 illboard Top 200. Alongside those achievements she received a Soul Tra
 in Award for “Best New Artist” and an NAACP Image Award for “Out
 standing New Artist.” In early 2016, the second season of her VH1 re
 ality show, K. Michelle: My Life, opened to an audience of over 3.2 mi
 llion viewers up 7.5%, and she made history becoming the “first Afri
 can American to receive an endorsement deal from Jack Daniels.” Ever
 ything set the stage for her next album though.\n\nFor More Issues Tha
 n Vogue, she assembled a dream team of producers including Eric Hudson
  [Kanye West, Mary J. Blige], Lil’ Ronnie [R. Kelly, Lupe Fiasco], a
 nd Pop & Oak [Britney Spears, Drake]. As a result, the sonic palette s
 upports the overarching narrative. “It’s in the name,” she boast
 s. “The title means we all have issues. There are a lot of issues of
  Vogue, but I have more issues than anybody. The first time I heard th
 e phrase I laughed out loud because it fit me so well. Every song focu
 ses on one of those issues. This ties everything together.” Now, K. 
 Michelle adds another unforgettable page to her personal narrative wit
 h More Issues Than Vogue.\n\nFor more information visit http://truesko
 ol.com/events/k-michelle-at-mezzanine
DTSTART;TZID=America/Los_Angeles:20160810T203000
DTEND;TZID=America/Los_Angeles:20160811T020000
CATEGORIES:"san francisco", "bay area"
LOCATION:Mezzanine, San Francisco
WEBSITE:http://mezzaninesf.com/events/k-michelle-2/
URL:http://mezzaninesf.com/events/k-michelle-2/
CONTACT:415.625.8880
ORGANIZER:Another Planet Entertainment
ATTACH;FMTTYPE="image/jpeg":http://storage.ning.com/topology/rest/1.0/
 file/get/2247988927?profile=original
ATTENDEE;ROLE=REQ-PARTICIPANT;PARTSTAT=ACCEPTED;RSVP=TRUE;CN=Mezzanine
 SF:http://trueskool.com/profile/MezzanineSF
END:VEVENT
END:VCALENDAR
