BEGIN:VCALENDAR
PRODID:NingEventWidget-v1
VERSION:2.0
METHOD:PUBLISH
BEGIN:VTIMEZONE
TZID:America/Los_Angeles
X-LIC-LOCATION:America/Los_Angeles
BEGIN:DAYLIGHT
TZOFFSETFROM:-0800
TZOFFSETTO:-0700
TZNAME:PDT
DTSTART:19700308T020000
RRULE:FREQ=YEARLY;BYMONTH=3;BYDAY=2SU
END:DAYLIGHT
BEGIN:STANDARD
TZOFFSETFROM:-0700
TZOFFSETTO:-0800
TZNAME:PST
DTSTART:19701101T020000
RRULE:FREQ=YEARLY;BYMONTH=11;BYDAY=1SU
END:STANDARD
END:VTIMEZONE
BEGIN:VEVENT
UID:1464587:Event:298441
DTSTAMP:20260420T162238Z
SUMMARY:Justin Martin (Dirtybird) & Nick Monaco at Monarch
DESCRIPTION:Nick Monaco Presents...Hey Young World! Guest of the Mont
 h: Justin Martin (dirtybird)The Bay Area's own funky butterfly Nick Mo
 naco brings his boundary-free DJ philosophy to Monarch every 3rd Thurs
 day in 2014. A year after globetrotting, being inducted into the Wolf 
 + Lamb crew, and vogueing across the seven seas, he has his own ideas 
 about what the dance floor should sound like. The idea is keep the li
 neups short and sweet, but the set times long and strong giving our gu
 ests room to spread their wings and fly around genres and get acquaint
 ed with that buttery void sound system. Who better to christen the re
 sidency than dirtybird darling and pizza enthusiast Justin Martin?!?!?
 !?! yep!\n\n$10 advanced at www.monarchsf.com21+101 6th StreetMonarch
  SF www.monarchsf.com\n\nFor more information visit http://trueskool.
 com/events/justin-martin-dirtybird-nick-monaco-at-monarch
DTSTART;TZID=America/Los_Angeles:20140123T213000
DTEND;TZID=America/Los_Angeles:20140124T020000
CATEGORIES:san, francisco, house, music, disco, funk, techno, garage, 
 monarch, wolf, "+", lamb, and, soul, clap, records, nick, monaco, dirt
 ybird, dirty, bird, justin, martin
LOCATION:Monarch, San Francisco
WEBSITE:http://www.monarchsf.com/event/459177-justin-martin-nick-monac
 o-san-francisco/
URL:http://www.monarchsf.com/event/459177-justin-martin-nick-monaco-sa
 n-francisco/
CONTACT:
ORGANIZER;CN=monarchsf:http://trueskool.com/profile/monarchsf
ATTACH;FMTTYPE="image/jpeg":http://storage.ning.com/topology/rest/1.0/
 file/get/2247957027?profile=original
ATTENDEE;ROLE=REQ-PARTICIPANT;PARTSTAT=ACCEPTED;RSVP=TRUE;CN=monarchsf
 :http://trueskool.com/profile/monarchsf
END:VEVENT
END:VCALENDAR
