BEGIN:VCALENDAR
PRODID:NingEventWidget-v1
VERSION:2.0
METHOD:PUBLISH
BEGIN:VTIMEZONE
TZID:America/Los_Angeles
X-LIC-LOCATION:America/Los_Angeles
BEGIN:DAYLIGHT
TZOFFSETFROM:-0800
TZOFFSETTO:-0700
TZNAME:PDT
DTSTART:19700308T020000
RRULE:FREQ=YEARLY;BYMONTH=3;BYDAY=2SU
END:DAYLIGHT
BEGIN:STANDARD
TZOFFSETFROM:-0700
TZOFFSETTO:-0800
TZNAME:PST
DTSTART:19701101T020000
RRULE:FREQ=YEARLY;BYMONTH=11;BYDAY=1SU
END:STANDARD
END:VTIMEZONE
BEGIN:VEVENT
UID:1464587:Event:332585
DTSTAMP:20260421T021328Z
SUMMARY:JURASSIC 5 with guests: Quannum Projects feat. Blackalicious, 
 DJ Shadow, Lyrics Born & Lateef the Truthspeaker, Dilated Peoples (WIN
  TICKETS)
DESCRIPTION:\n\nFRIDAY, JULY 11\nWord of Mouth Reunion Tour JURASSIC 5
 \nwith guests:\nQuannum Projects featuring Blackalicious, DJ Shadow, L
 yrics Born & Lateef the Truthspeaker\nDilated Peoples\n \n@ Greek The
 atre, Berkeley\nPresale begins Thursday, April 3rd at 10am! (password 
 = quality)\nPlease note that presale tickets are only available online
 . The general on sale begins Friday, April 4th at 10am.\n>> Buy ticket
 s\n \nABOUT JURASSIC 5: Jurassic 5 was in fact formed of six members;
  two DJs/Producers coupled with four distinct rappers who, when perfor
 ming sequences simultaneously, was perfectly tempered, making their ea
 rly releases stand above the experimental rap that was burgeoning at t
 he time. They weren't throwback or old school, but they embodied a nos
 talgic sound that was also at once fresh. Their first release, The Jur
 assic 5 EP, had songs like \"Concrete Schoolyard\" and \"Jayou\", quic
 kly turned heads to their relaxed yet detailed sound. Their next relea
 se, a gold selling Quality Control, was a more fully realized effort w
 hich was a charting album on the Billboard Charts, peaking at #43 and 
 largely introduced them to the masses worldwide. As momentum snowballe
 d, their next effort, Power in Numbers produced \"Day At The Races\" f
 eaturing legendary Big Daddy Kane and a Hip Hop classic entitled \"Wha
 t's Golden.\" Feedback both reached #15 on the Billboard Charts in 200
 6, would be their last official outing, as Cut Chemist left to pursue 
 solo works. A year later, the group parted ways. Given that everyone l
 eft amicably, a reunion was always possible, and yielded two huge Euro
 pean tours when it finally did.\nThe six-member tribe, now of age and 
 full of know-how, are reaching a stage in their career where their ful
 l rise will be marked in an upcoming documentary feature currently in 
 the works. In July and August, their spectacular \"Word Of Mouth\" Tou
 r will feature Blackalicious, DJ Shadow, Lyrics Born and Lateef the Tr
 uthspeaker. As DJ Nu-Mark aptly told the LA Times before their reunion
  at Coachella, this right here is a \"Rebirth\".\n\n\nFor more informa
 tion visit http://trueskool.com/events/jurassic-5-with-guests-quannum-
 projects-featuring-blackalicious-d
DTSTART;TZID=America/Los_Angeles:20140711T180000
DTEND;TZID=America/Los_Angeles:20140711T230000
CATEGORIES:"bay area", berkeley
LOCATION:Greek Theatre, Berkeley
WEBSITE:http://www.ticketmaster.com/event/1C004C7B2A5CB25D?brand=anoth
 erplanet&camefrom=CFC_ANOTHERPLANET
URL:http://www.ticketmaster.com/event/1C004C7B2A5CB25D?brand=anotherpl
 anet&camefrom=CFC_ANOTHERPLANET
CONTACT:
ORGANIZER:Another Planet Ent
ATTACH;FMTTYPE="image/jpeg":http://storage.ning.com/topology/rest/1.0/
 file/get/2247960352?profile=original
ATTENDEE;ROLE=REQ-PARTICIPANT;PARTSTAT=ACCEPTED;RSVP=TRUE;CN=Opine:htt
 p://trueskool.com/profile/DanielOpine
ATTENDEE;ROLE=REQ-PARTICIPANT;PARTSTAT=ACCEPTED;RSVP=TRUE;CN="Karla Fl
 ores":http://trueskool.com/profile/KarlaFlores491
ATTENDEE;ROLE=REQ-PARTICIPANT;PARTSTAT=ACCEPTED;RSVP=TRUE;CN="Jose Alf
 aro":http://trueskool.com/profile/JoseAlfaro
ATTENDEE;ROLE=REQ-PARTICIPANT;PARTSTAT=ACCEPTED;RSVP=TRUE;CN="Devi Gen
 uone":http://trueskool.com/profile/DeviGenuone
ATTENDEE;ROLE=REQ-PARTICIPANT;PARTSTAT=ACCEPTED;RSVP=TRUE;CN="Jennifer
  Thomas":http://trueskool.com/profile/JenniferThomas
ATTENDEE;ROLE=REQ-PARTICIPANT;PARTSTAT=ACCEPTED;RSVP=TRUE;CN="Tali Ben
 attar":http://trueskool.com/profile/TaliBenattar550
ATTENDEE;ROLE=REQ-PARTICIPANT;PARTSTAT=ACCEPTED;RSVP=TRUE;CN="Nicole P
 ineda":http://trueskool.com/profile/NicolePineda
ATTENDEE;ROLE=REQ-PARTICIPANT;PARTSTAT=ACCEPTED;RSVP=TRUE;CN=Benjamin:
 http://trueskool.com/profile/Benjamin
ATTENDEE;ROLE=REQ-PARTICIPANT;PARTSTAT=ACCEPTED;RSVP=TRUE;CN="clayre c
 ruz":http://trueskool.com/profile/clayrecruz
ATTENDEE;ROLE=REQ-PARTICIPANT;PARTSTAT=ACCEPTED;RSVP=TRUE;CN="Chaya Be
 ll-Gumaer":http://trueskool.com/profile/ChayaBellGumaer
ATTENDEE;ROLE=REQ-PARTICIPANT;PARTSTAT=ACCEPTED;RSVP=TRUE;CN="m.deep.m
 usic":http://trueskool.com/profile/mdeepmusic
ATTENDEE;ROLE=REQ-PARTICIPANT;PARTSTAT=ACCEPTED;RSVP=TRUE;CN=maradona1
 0:http://trueskool.com/profile/maradona10
ATTENDEE;ROLE=REQ-PARTICIPANT;PARTSTAT=ACCEPTED;RSVP=TRUE;CN=Dave:http
 ://trueskool.com/profile/Dave
ATTENDEE;ROLE=REQ-PARTICIPANT;PARTSTAT=ACCEPTED;RSVP=TRUE;CN="Peps X":
 http://trueskool.com/profile/Peps
ATTENDEE;ROLE=REQ-PARTICIPANT;PARTSTAT=ACCEPTED;RSVP=TRUE;CN="Mark Hen
 derson":http://trueskool.com/profile/MarkHenderson
ATTENDEE;ROLE=REQ-PARTICIPANT;PARTSTAT=ACCEPTED;RSVP=TRUE;CN="Gwen Lom
 enech":http://trueskool.com/profile/GwenLomenech
ATTENDEE;ROLE=REQ-PARTICIPANT;PARTSTAT=ACCEPTED;RSVP=TRUE;CN="molly ly
 nch":http://trueskool.com/profile/mollylynch
ATTENDEE;ROLE=REQ-PARTICIPANT;PARTSTAT=ACCEPTED;RSVP=TRUE;CN=odis26:ht
 tp://trueskool.com/profile/odis26
ATTENDEE;ROLE=REQ-PARTICIPANT;PARTSTAT=ACCEPTED;RSVP=TRUE;CN="Anne Sal
 vatori":http://trueskool.com/profile/AnneSalvatori
ATTENDEE;ROLE=REQ-PARTICIPANT;PARTSTAT=ACCEPTED;RSVP=TRUE;CN=Easy:http
 ://trueskool.com/profile/DJEasy
ATTENDEE;ROLE=REQ-PARTICIPANT;PARTSTAT=ACCEPTED;RSVP=TRUE;CN="Fresh Ma
 ftoon":http://trueskool.com/profile/FreshMaftoon
ATTENDEE;ROLE=REQ-PARTICIPANT;PARTSTAT=ACCEPTED;RSVP=TRUE;CN="Andrea B
 arros":http://trueskool.com/profile/AndreaBarros
ATTENDEE;ROLE=REQ-PARTICIPANT;PARTSTAT=ACCEPTED;RSVP=TRUE;CN=Rebecca:h
 ttp://trueskool.com/profile/Rebecca
ATTENDEE;ROLE=REQ-PARTICIPANT;PARTSTAT=ACCEPTED;RSVP=TRUE;CN=Melissa:h
 ttp://trueskool.com/profile/Melissa
ATTENDEE;ROLE=REQ-PARTICIPANT;PARTSTAT=ACCEPTED;RSVP=TRUE;CN=Frost:htt
 p://trueskool.com/profile/Frost
ATTENDEE;ROLE=REQ-PARTICIPANT;PARTSTAT=ACCEPTED;RSVP=TRUE;CN=Angela:ht
 tp://trueskool.com/profile/Angela815
ATTENDEE;ROLE=REQ-PARTICIPANT;PARTSTAT=ACCEPTED;RSVP=TRUE;CN="Amy Yind
 iphol":http://trueskool.com/profile/AmyYindiphol
ATTENDEE;ROLE=REQ-PARTICIPANT;PARTSTAT=ACCEPTED;RSVP=TRUE;CN="Angelica
  Miramontes":http://trueskool.com/profile/AngelicaMiramontes
ATTENDEE;ROLE=REQ-PARTICIPANT;PARTSTAT=ACCEPTED;RSVP=TRUE;CN="Alissa B
 ennett":http://trueskool.com/profile/AlissaBennett
ATTENDEE;ROLE=REQ-PARTICIPANT;PARTSTAT=ACCEPTED;RSVP=TRUE;CN="Elisa Bj
 eldanes":http://trueskool.com/profile/ElisaBjeldanes
ATTENDEE;ROLE=REQ-PARTICIPANT;PARTSTAT=ACCEPTED;RSVP=TRUE;CN="Jeremiah
  Diaz":http://trueskool.com/profile/JeremiahDiaz
ATTENDEE;ROLE=REQ-PARTICIPANT;PARTSTAT=ACCEPTED;RSVP=TRUE;CN="Victor V
 ela":http://trueskool.com/profile/Vic
ATTENDEE;ROLE=REQ-PARTICIPANT;PARTSTAT=ACCEPTED;RSVP=TRUE;CN="Ondie A"
 :http://trueskool.com/profile/OndieA
ATTENDEE;ROLE=REQ-PARTICIPANT;PARTSTAT=ACCEPTED;RSVP=TRUE;CN="chester 
 smith":http://trueskool.com/profile/chestersmith
ATTENDEE;ROLE=REQ-PARTICIPANT;PARTSTAT=ACCEPTED;RSVP=TRUE;CN="Cindy Ng
 ai":http://trueskool.com/profile/CindyNgai
ATTENDEE;ROLE=REQ-PARTICIPANT;PARTSTAT=ACCEPTED;RSVP=TRUE;CN="Stephen 
 Bishop":http://trueskool.com/profile/StephenBishop
ATTENDEE;ROLE=REQ-PARTICIPANT;PARTSTAT=ACCEPTED;RSVP=TRUE;CN="Iris E."
 :http://trueskool.com/profile/IrisE
ATTENDEE;ROLE=REQ-PARTICIPANT;PARTSTAT=ACCEPTED;RSVP=TRUE;CN="Richard 
 J. Tover":http://trueskool.com/profile/RichardJTover
ATTENDEE;ROLE=REQ-PARTICIPANT;PARTSTAT=ACCEPTED;RSVP=TRUE;CN="Maria A.
 ":http://trueskool.com/profile/MariaA
ATTENDEE;ROLE=REQ-PARTICIPANT;PARTSTAT=ACCEPTED;RSVP=TRUE;CN="Robin Bo
 uc":http://trueskool.com/profile/Rawbone
ATTENDEE;ROLE=REQ-PARTICIPANT;PARTSTAT=ACCEPTED;RSVP=TRUE;CN="Frank Vi
 loria":http://trueskool.com/profile/DJILLusive
ATTENDEE;ROLE=REQ-PARTICIPANT;PARTSTAT=ACCEPTED;RSVP=TRUE;CN=Dimitri41
 5:http://trueskool.com/profile/Dimitri415
ATTENDEE;ROLE=REQ-PARTICIPANT;PARTSTAT=ACCEPTED;RSVP=TRUE;CN="Demetria
  Lawrence":http://trueskool.com/profile/DemetriaLawrence
ATTENDEE;ROLE=REQ-PARTICIPANT;PARTSTAT=ACCEPTED;RSVP=TRUE;CN="Kimon Fl
 anagan":http://trueskool.com/profile/KimonFlanagan
ATTENDEE;ROLE=REQ-PARTICIPANT;PARTSTAT=ACCEPTED;RSVP=TRUE;CN="Carolina
  Quijano":http://trueskool.com/profile/CarolinaQuijano
ATTENDEE;ROLE=REQ-PARTICIPANT;PARTSTAT=ACCEPTED;RSVP=TRUE;CN="Katrina 
 Shaw":http://trueskool.com/profile/KatrinaShaw
ATTENDEE;ROLE=REQ-PARTICIPANT;PARTSTAT=ACCEPTED;RSVP=TRUE;CN="Karen La
 nge":http://trueskool.com/profile/KarenLange
ATTENDEE;ROLE=REQ-PARTICIPANT;PARTSTAT=ACCEPTED;RSVP=TRUE;CN="Camille 
 Yin":http://trueskool.com/profile/Camille
ATTENDEE;ROLE=REQ-PARTICIPANT;PARTSTAT=ACCEPTED;RSVP=TRUE;CN="jenni ma
 nn":http://trueskool.com/profile/jennimann
ATTENDEE;ROLE=REQ-PARTICIPANT;PARTSTAT=ACCEPTED;RSVP=TRUE;CN="Jon Schr
 oeder":http://trueskool.com/profile/JonSchroeder
ATTENDEE;ROLE=REQ-PARTICIPANT;PARTSTAT=TENTATIVE;RSVP=TRUE;CN=tonybone
 z:http://trueskool.com/profile/tonybonez
END:VEVENT
END:VCALENDAR
