BEGIN:VCALENDAR
PRODID:NingEventWidget-v1
VERSION:2.0
METHOD:PUBLISH
BEGIN:VTIMEZONE
TZID:America/Los_Angeles
X-LIC-LOCATION:America/Los_Angeles
BEGIN:DAYLIGHT
TZOFFSETFROM:-0800
TZOFFSETTO:-0700
TZNAME:PDT
DTSTART:19700308T020000
RRULE:FREQ=YEARLY;BYMONTH=3;BYDAY=2SU
END:DAYLIGHT
BEGIN:STANDARD
TZOFFSETFROM:-0700
TZOFFSETTO:-0800
TZNAME:PST
DTSTART:19701101T020000
RRULE:FREQ=YEARLY;BYMONTH=11;BYDAY=1SU
END:STANDARD
END:VTIMEZONE
BEGIN:VEVENT
UID:1464587:Event:645595
DTSTAMP:20260420T155621Z
SUMMARY:Juicy w/ DJ Mark Divita & Ren the Vinyl Archaeologist
DESCRIPTION:\nFRIDAY, MAR 18John Collins & Love Movement presentJuicy 
 (3rd Fridays)New & Classic Hip Hop, R&B, Soul Vibes & Top 40\nSoundtra
 ck by Mark Divita (Since86)with special guestRen the Vinyl Archaeolo
 gist (True Skool)\n@ John Collins, 138 Minna St, San FranciscoPasswor
 d “LUCKY13” for FREE Admission. For groups or reservations, email
 party@johncollins.com\n\nFor more information visit http://trueskool.
 com/events/juicy-w-dj-mark-divita-ren-the-vinyl-archaeologist
DTSTART;TZID=America/Los_Angeles:20160318T220000
DTEND;TZID=America/Los_Angeles:20160319T020000
CATEGORIES:"bay area", "san francisco"
LOCATION:John Collins, San Francisco, CA
WEBSITE:http://www.johncollins.com
URL:http://www.johncollins.com
CONTACT:
ORGANIZER:John Collins & Love Movement
ATTACH;FMTTYPE="image/jpeg":http://storage.ning.com/topology/rest/1.0/
 file/get/2247986147?profile=original
ATTENDEE;ROLE=REQ-PARTICIPANT;PARTSTAT=ACCEPTED;RSVP=TRUE;CN="Editor's
  Pick":http://trueskool.com/profile/RentheVinylArchaeologist
END:VEVENT
END:VCALENDAR
