BEGIN:VCALENDAR
PRODID:NingEventWidget-v1
VERSION:2.0
METHOD:PUBLISH
BEGIN:VTIMEZONE
TZID:America/Los_Angeles
X-LIC-LOCATION:America/Los_Angeles
BEGIN:DAYLIGHT
TZOFFSETFROM:-0800
TZOFFSETTO:-0700
TZNAME:PDT
DTSTART:19700308T020000
RRULE:FREQ=YEARLY;BYMONTH=3;BYDAY=2SU
END:DAYLIGHT
BEGIN:STANDARD
TZOFFSETFROM:-0700
TZOFFSETTO:-0800
TZNAME:PST
DTSTART:19701101T020000
RRULE:FREQ=YEARLY;BYMONTH=11;BYDAY=1SU
END:STANDARD
END:VTIMEZONE
BEGIN:VEVENT
UID:1464587:Event:649360
DTSTAMP:20260420T170513Z
SUMMARY:JUICY (3rd Fridays) w DJ Mark DiVita
DESCRIPTION: \n\nEvery 3rd Friday JohnColins and SinceEighty6 present
  Juicy a party celebrating Hip-Hop's roots, past, Golden Era and prese
 nt through fashion and the music selections of DJ Mark DiVita (The Lov
 e Movement/Camp Lo/BabyPawSound) and monthly Guests. Past guests have 
 included DJ Wisdom, HouseShoes, Mind Motion, King Most, Kevvy Kev, DJ 
 Henroc, Ry Toast, Sean G, Al Perfecto, DJ Supreme, Banks the DJ.\nClas
 sic Breaks, R&B, Soul, Reggae, House and Rap are the standard. Fun is 
 the intent.\nThis month's we celebrate Taurus Birthdays with a specia
 l 3 Hr Set by resident DJ Mark DiVita w guest Adam Aviles making his 
 John Colins Debut from 10pm-11pmFeaturing Classic Party Hits, 90s Hip-
 Hop, R&B andmusic to drink to.\nMusic starts at 10pm. Cover. For birth
 days, special requests and/or reservations email: party@johncolins.com
 \nFollow @MarkDiVita on Instagram, Facebook and Twitter for giveaways,
  updates and Passwords for free Entry to Juicy and other events. www.M
 arkDiVita.com\nFor reservations email: party@johncolins.com\nCheck out
  pics from past Juicy partys HERE.\n\nFor more information visit http:
 //trueskool.com/events/juicy-3rd-fridays-w-dj-mark-divita
DTSTART;TZID=America/Los_Angeles:20160520T220000
DTEND;TZID=America/Los_Angeles:20160521T020000
CATEGORIES:san, francisco, financial, district
LOCATION:John Colins, San Francisco, CA
WEBSITE:http://johncolins.com/events/juicy-3rd-fridays/
URL:http://johncolins.com/events/juicy-3rd-fridays/
CONTACT:For Bottle Service or Reservations Email Party@JohnColins.com
ORGANIZER;CN="John Colins":http://trueskool.com/profile/JohnColinsSF
ATTACH;FMTTYPE="image/jpeg":http://storage.ning.com/topology/rest/1.0/
 file/get/2247988731?profile=original
ATTENDEE;ROLE=REQ-PARTICIPANT;PARTSTAT=ACCEPTED;RSVP=TRUE;CN="John Col
 ins":http://trueskool.com/profile/JohnColinsSF
END:VEVENT
END:VCALENDAR
