BEGIN:VCALENDAR
PRODID:NingEventWidget-v1
VERSION:2.0
METHOD:PUBLISH
BEGIN:VTIMEZONE
TZID:America/Los_Angeles
X-LIC-LOCATION:America/Los_Angeles
BEGIN:DAYLIGHT
TZOFFSETFROM:-0800
TZOFFSETTO:-0700
TZNAME:PDT
DTSTART:19700308T020000
RRULE:FREQ=YEARLY;BYMONTH=3;BYDAY=2SU
END:DAYLIGHT
BEGIN:STANDARD
TZOFFSETFROM:-0700
TZOFFSETTO:-0800
TZNAME:PST
DTSTART:19701101T020000
RRULE:FREQ=YEARLY;BYMONTH=11;BYDAY=1SU
END:STANDARD
END:VTIMEZONE
BEGIN:VEVENT
UID:1464587:Event:628840
DTSTAMP:20260421T084756Z
SUMMARY:JROD INDIGO PERFOMING AT LEGIONNAIRE SALOOM
DESCRIPTION:A special night debuting a new Soul/Funk Revolution in The
  Bay and beyond spearheaded by Chicago born Oakland based soul singer 
 Jrod Indigo; performing live with an ensemble of seasoned musical head
 hunters in both an intimate and intricate setting. Also onboard is San
  Francisco based singer/songwriter/guitarist Will Weston - who makes h
 is east bay debut performance bringing his unique brand of pop/rock/so
 ul to the mix. Acclaimed Bay area tastemaker DJ heyLove* provides the 
 night with her dynamic mix of progressive house/soul/rare grooves to s
 et the mood throughout the night. This is a show you do not want to mi
 ss!\n\nFor more information visit http://trueskool.com/events/jrod-ind
 igo-perfoming-at-legionnaire-saloom
DTSTART;TZID=America/Los_Angeles:20150514T210000
DTEND;TZID=America/Los_Angeles:20150515T020000
CATEGORIES:oakland, bay, area
LOCATION:Legionnaire Saloon (Oakland)
WEBSITE:http://legionnairesaloon.com
URL:http://legionnairesaloon.com
CONTACT:510-891-8660
ORGANIZER;CN="Jrod Indigo":http://trueskool.com/profile/JrodIndigo
ATTACH;FMTTYPE="image/jpeg":http://storage.ning.com/topology/rest/1.0/
 file/get/2247976634?profile=original
ATTENDEE;ROLE=REQ-PARTICIPANT;PARTSTAT=ACCEPTED;RSVP=TRUE;CN="Jrod Ind
 igo":http://trueskool.com/profile/JrodIndigo
END:VEVENT
END:VCALENDAR
