BEGIN:VCALENDAR
PRODID:NingEventWidget-v1
VERSION:2.0
METHOD:PUBLISH
BEGIN:VTIMEZONE
TZID:America/Los_Angeles
X-LIC-LOCATION:America/Los_Angeles
BEGIN:DAYLIGHT
TZOFFSETFROM:-0800
TZOFFSETTO:-0700
TZNAME:PDT
DTSTART:19700308T020000
RRULE:FREQ=YEARLY;BYMONTH=3;BYDAY=2SU
END:DAYLIGHT
BEGIN:STANDARD
TZOFFSETFROM:-0700
TZOFFSETTO:-0800
TZNAME:PST
DTSTART:19701101T020000
RRULE:FREQ=YEARLY;BYMONTH=11;BYDAY=1SU
END:STANDARD
END:VTIMEZONE
BEGIN:VEVENT
UID:1464587:Event:651857
DTSTAMP:20260420T115658Z
SUMMARY:JON B
DESCRIPTION:JON B\nSaturday Sep 10, 2016Doors: 7:00 PM Show: 7:30 PM$3
 9 - $69\n\nSaturday Sep 10, 2016Doors: 9:15 PM Show: 9:30 PM$39\n\nSun
 day Sep 11, 2016Doors: 6:30 PM Show: 7:00 PM$36 - $69\n\nSunday Sep 11
 , 2016Doors: 8:45 PM Show: 9:00 PM$36\n\nFor more information visit ht
 tp://trueskool.com/events/jon-b-2
DTSTART;TZID=America/Los_Angeles:20160910T190000
DTEND;TZID=America/Los_Angeles:20160911T230000
CATEGORIES:"san francisco", oakland, berkley, "san jose", "bay area"
LOCATION:Yoshi's, Oakland
WEBSITE:http://www.yoshis.com/search/?q=JON%20B
URL:http://www.yoshis.com/search/?q=JON%20B
CONTACT:
ORGANIZER;CN="Editor's Pick":http://trueskool.com/profile/RentheVinylA
 rchaeologist
ATTACH;FMTTYPE="image/jpeg":http://storage.ning.com/topology/rest/1.0/
 file/get/2247989686?profile=original
ATTENDEE;ROLE=REQ-PARTICIPANT;PARTSTAT=ACCEPTED;RSVP=TRUE;CN="Editor's
  Pick":http://trueskool.com/profile/RentheVinylArchaeologist
END:VEVENT
END:VCALENDAR
