BEGIN:VCALENDAR
PRODID:NingEventWidget-v1
VERSION:2.0
METHOD:PUBLISH
BEGIN:VTIMEZONE
TZID:America/Los_Angeles
X-LIC-LOCATION:America/Los_Angeles
BEGIN:DAYLIGHT
TZOFFSETFROM:-0800
TZOFFSETTO:-0700
TZNAME:PDT
DTSTART:19700308T020000
RRULE:FREQ=YEARLY;BYMONTH=3;BYDAY=2SU
END:DAYLIGHT
BEGIN:STANDARD
TZOFFSETFROM:-0700
TZOFFSETTO:-0800
TZNAME:PST
DTSTART:19701101T020000
RRULE:FREQ=YEARLY;BYMONTH=11;BYDAY=1SU
END:STANDARD
END:VTIMEZONE
BEGIN:VEVENT
UID:1464587:Event:395970
DTSTAMP:20260420T231925Z
SUMMARY:John Legend (SOLD OUT)
DESCRIPTION:\nVenue:\nThe Greek TheatreUC-Berkeley\n\nLocation:\nBerke
 ley, CA\n\nShow Date:\nThursday, August 21\n\nShow Time:\n7:30PM\n\nOn
  Sale Date:\nThursday, June 5\n\nTicket Price:\n$125.00 - Reserved Pit
 $95.00 - Reserved Floor$65.00 - Reserved Stands$45.00 - Lawn*plus appl
 icable service fees\nTickets are also available service charge free at
  The Fox Theater's Box Office (located on the 19th street side of the 
 theater) on show dates and on Fridays from noon - 7:00pm.\n\n\n\n\n\nF
 or more information visit http://trueskool.com/events/john-legend-sold
 -out
DTSTART;TZID=America/Los_Angeles:20140821T193000
DTEND;TZID=America/Los_Angeles:20140821T230000
CATEGORIES:"bay area, san francisco, oakland, berkley"
LOCATION:The Greek Theatre, Berkley
WEBSITE:http://SOLD OUT
URL:http://SOLD OUT
CONTACT:
ORGANIZER;CN="Editor's Pick":http://trueskool.com/profile/RentheVinylA
 rchaeologist
ATTACH;FMTTYPE="image/jpeg":http://storage.ning.com/topology/rest/1.0/
 file/get/2247963695?profile=original
ATTENDEE;ROLE=REQ-PARTICIPANT;PARTSTAT=ACCEPTED;RSVP=TRUE;CN="James Mi
 chael Federighi":http://trueskool.com/profile/JamesMichaelFederighi
ATTENDEE;ROLE=REQ-PARTICIPANT;PARTSTAT=ACCEPTED;RSVP=TRUE;CN="Editor's
  Pick":http://trueskool.com/profile/RentheVinylArchaeologist
END:VEVENT
END:VCALENDAR
