BEGIN:VCALENDAR
PRODID:NingEventWidget-v1
VERSION:2.0
METHOD:PUBLISH
BEGIN:VTIMEZONE
TZID:America/Los_Angeles
X-LIC-LOCATION:America/Los_Angeles
BEGIN:DAYLIGHT
TZOFFSETFROM:-0800
TZOFFSETTO:-0700
TZNAME:PDT
DTSTART:19700308T020000
RRULE:FREQ=YEARLY;BYMONTH=3;BYDAY=2SU
END:DAYLIGHT
BEGIN:STANDARD
TZOFFSETFROM:-0700
TZOFFSETTO:-0800
TZNAME:PST
DTSTART:19701101T020000
RRULE:FREQ=YEARLY;BYMONTH=11;BYDAY=1SU
END:STANDARD
END:VTIMEZONE
BEGIN:VEVENT
UID:1464587:Event:310502
DTSTAMP:20260423T034826Z
SUMMARY:John Legend
DESCRIPTION:\nVenue:\nZellerbach AuditoriumUC-Berkeley\n\nLocation:\nB
 erkeley, CA\n\nShow Date:\nSunday, March 30\n\nShow Time:\n7:30PM\n\nO
 n Sale Date:\nThursday, January 30\n\nTicket Price:\n$65.00 - Reserved
  Seating$49.50 - Reserved Seating*plus applicable service fees\nTicket
 s are also available service charge free at The Fox Theater's Box Offi
 ce (located on the 19th street side of the theater) on show dates and 
 on Fridays from noon - 7:00pm.\n\n\n\n\n\nFor more information visit h
 ttp://trueskool.com/events/john-legend-2
DTSTART;TZID=America/Los_Angeles:20140330T193000
DTEND;TZID=America/Los_Angeles:20140330T230000
CATEGORIES:"bay area", "san francisco", "oakland\""
LOCATION:Zellerbach Auditorium UC-Berkeley
WEBSITE:http://www.ticketmaster.com/event/1C004C31C6E382E4?brand=anoth
 erplanet&camefrom=CFC_ANOTHERPLANET
URL:http://www.ticketmaster.com/event/1C004C31C6E382E4?brand=anotherpl
 anet&camefrom=CFC_ANOTHERPLANET
CONTACT:
ORGANIZER;CN="Editor's Pick":http://trueskool.com/profile/RentheVinylA
 rchaeologist
ATTACH;FMTTYPE="image/jpeg":http://storage.ning.com/topology/rest/1.0/
 file/get/2247956471?profile=original
ATTENDEE;ROLE=REQ-PARTICIPANT;PARTSTAT=ACCEPTED;RSVP=TRUE;CN="Tina Byr
 ne":http://trueskool.com/profile/TinaByrne
ATTENDEE;ROLE=REQ-PARTICIPANT;PARTSTAT=ACCEPTED;RSVP=TRUE;CN="Richard 
 J. Tover":http://trueskool.com/profile/RichardJTover
ATTENDEE;ROLE=REQ-PARTICIPANT;PARTSTAT=ACCEPTED;RSVP=TRUE;CN="Editor's
  Pick":http://trueskool.com/profile/RentheVinylArchaeologist
END:VEVENT
END:VCALENDAR
