BEGIN:VCALENDAR
PRODID:NingEventWidget-v1
VERSION:2.0
METHOD:PUBLISH
BEGIN:VTIMEZONE
TZID:America/Los_Angeles
X-LIC-LOCATION:America/Los_Angeles
BEGIN:DAYLIGHT
TZOFFSETFROM:-0800
TZOFFSETTO:-0700
TZNAME:PDT
DTSTART:19700308T020000
RRULE:FREQ=YEARLY;BYMONTH=3;BYDAY=2SU
END:DAYLIGHT
BEGIN:STANDARD
TZOFFSETFROM:-0700
TZOFFSETTO:-0800
TZNAME:PST
DTSTART:19701101T020000
RRULE:FREQ=YEARLY;BYMONTH=11;BYDAY=1SU
END:STANDARD
END:VTIMEZONE
BEGIN:VEVENT
UID:1464587:Event:650810
DTSTAMP:20260421T143912Z
SUMMARY:Joe Jackson
DESCRIPTION:The ever-restless British-born, NYC/Berlin-based singer/so
 ngwriter Joe Jackson makes his highly anticipated debut at the Jazz Fe
 stival. With a string of 19 studio albums and multiple Grammy nominati
 ons, Jackson rocketed to stardom with songs including \"Is She Really 
 Going Out With Him?\" , \"Steppin' Out\" and \"It's Different for Girl
 s.\"   Over a long career Joe has traversed territory ranging from ca
 baret and film scores to classical music, pop and jump blues. His late
 st release, Fast Forward, is his first collection of original songs in
  seven years and features guest musicians including Bill Frisell, Stef
 an Kruger (Zuco 103), Earl Harvin, and Stanton Moore.   His career-sp
 anning Festival show will feature Jackson \"as my opening act,\" playi
 ng a short solo piano set before bringing out a full band which will i
 nclude Graham Maby bass, Teddy Kumpel (Rickie Lee Jones, Feist) guitar
 , and Doug Yowell (Suzanne Vega, Ari Hest) drums.\n\nFor more informat
 ion visit http://trueskool.com/events/joe-jackson
DTSTART;TZID=America/Los_Angeles:20160622T200000
DTEND;TZID=America/Los_Angeles:20160622T230000
CATEGORIES:berkeley, "bay area"
LOCATION:The UC Theatre, Berkeley
WEBSITE:http://www.theuctheatre.org/event/1124359-joe-jackson-berkeley
 /
URL:http://www.theuctheatre.org/event/1124359-joe-jackson-berkeley/
CONTACT:510-356-4000
ORGANIZER;CN="The UC Theatre":http://trueskool.com/profile/TheUCTheatr
 e
ATTACH;FMTTYPE="image/jpeg":http://storage.ning.com/topology/rest/1.0/
 file/get/2247988923?profile=original
ATTENDEE;ROLE=REQ-PARTICIPANT;PARTSTAT=ACCEPTED;RSVP=TRUE;CN="The UC T
 heatre":http://trueskool.com/profile/TheUCTheatre
END:VEVENT
END:VCALENDAR
