BEGIN:VCALENDAR
PRODID:NingEventWidget-v1
VERSION:2.0
METHOD:PUBLISH
BEGIN:VTIMEZONE
TZID:America/Los_Angeles
X-LIC-LOCATION:America/Los_Angeles
BEGIN:DAYLIGHT
TZOFFSETFROM:-0800
TZOFFSETTO:-0700
TZNAME:PDT
DTSTART:19700308T020000
RRULE:FREQ=YEARLY;BYMONTH=3;BYDAY=2SU
END:DAYLIGHT
BEGIN:STANDARD
TZOFFSETFROM:-0700
TZOFFSETTO:-0800
TZNAME:PST
DTSTART:19701101T020000
RRULE:FREQ=YEARLY;BYMONTH=11;BYDAY=1SU
END:STANDARD
END:VTIMEZONE
BEGIN:VEVENT
UID:1464587:Event:550251
DTSTAMP:20260421T043502Z
SUMMARY:Joe Budden (Los Angeles)
DESCRIPTION:\nDate\nLocation\nEvent Details\nFind Tickets\n\n\nFEB  
 \n27\nFRI\n\nLos Globos Los Angeles, CA 08:30 PM\n\nJoe Budden with 
 Special Guest Kenny Shane Details: Joe Budden\nSee Ticketson TicketWeb
 \n\n\n\n\n\nFor more information visit http://trueskool.com/events/joe
 -budden-los-angeles
DTSTART;TZID=America/Los_Angeles:20150227T203000
DTEND;TZID=America/Los_Angeles:20150227T230000
CATEGORIES:"los angeles", la, california
LOCATION:Los Globos, Los Angeles
WEBSITE:http://www.ticketmaster.com/partner_redirect?v=B_NmXfgUDvyuLCR
 MsAzhEYbiztuU5mFIDIGduahZh-OEacaSE8i5AAOrK6w6wVqtwRAuFDu1QWvRY_SIUu4Et
 8bWNNz0nWhk6heb5P_vsFgpRpY9jFX36vCswNnkHlhQE36muGazqiNOjxAKWuku7qgZXSA
 jIA3c870_6LbFNM8jXZ4DBwqmahN0mRcMsk4i9ygu43CHYpLUAp4Sjw&eventid=29004E
 3031691BFC&artistid=875571&artistname=Joe%20Budden%20with%20Special%20
 Guest%20Kenny%20Shane&crosssite=TM_US:875571:336002
URL:http://www.ticketmaster.com/partner_redirect?v=B_NmXfgUDvyuLCRMsAz
 hEYbiztuU5mFIDIGduahZh-OEacaSE8i5AAOrK6w6wVqtwRAuFDu1QWvRY_SIUu4Et8bWN
 Nz0nWhk6heb5P_vsFgpRpY9jFX36vCswNnkHlhQE36muGazqiNOjxAKWuku7qgZXSAjIA3
 c870_6LbFNM8jXZ4DBwqmahN0mRcMsk4i9ygu43CHYpLUAp4Sjw&eventid=29004E3031
 691BFC&artistid=875571&artistname=Joe%20Budden%20with%20Special%20Gues
 t%20Kenny%20Shane&crosssite=TM_US:875571:336002
CONTACT:
ORGANIZER;CN="Editor's Pick":http://trueskool.com/profile/RentheVinylA
 rchaeologist
ATTACH;FMTTYPE="image/jpeg":http://storage.ning.com/topology/rest/1.0/
 file/get/2247973929?profile=original
ATTENDEE;ROLE=REQ-PARTICIPANT;PARTSTAT=ACCEPTED;RSVP=TRUE;CN="Editor's
  Pick":http://trueskool.com/profile/RentheVinylArchaeologist
END:VEVENT
END:VCALENDAR
