BEGIN:VCALENDAR
PRODID:NingEventWidget-v1
VERSION:2.0
METHOD:PUBLISH
BEGIN:VTIMEZONE
TZID:America/Los_Angeles
X-LIC-LOCATION:America/Los_Angeles
BEGIN:DAYLIGHT
TZOFFSETFROM:-0800
TZOFFSETTO:-0700
TZNAME:PDT
DTSTART:19700308T020000
RRULE:FREQ=YEARLY;BYMONTH=3;BYDAY=2SU
END:DAYLIGHT
BEGIN:STANDARD
TZOFFSETFROM:-0700
TZOFFSETTO:-0800
TZNAME:PST
DTSTART:19701101T020000
RRULE:FREQ=YEARLY;BYMONTH=11;BYDAY=1SU
END:STANDARD
END:VTIMEZONE
BEGIN:VEVENT
UID:1464587:Event:555289
DTSTAMP:20260420T214307Z
SUMMARY:Joe Budden
DESCRIPTION:\nDate\nLocation\nEvent Details\nFind Tickets\n\n\nMAR  
 \n1\nSUN\n\nLeo'sOakland, CA 08:30 PM\n\nJoe Budden\nSee Ticketson Ti
 cketWeb\n\n\n\n\n\nFor more information visit http://trueskool.com/eve
 nts/joe-budden-1
DTSTART;TZID=America/Los_Angeles:20150301T203000
DTEND;TZID=America/Los_Angeles:20150301T230000
CATEGORIES:"san francisco", oakland, berkley, "bay area"
LOCATION:Leo's, Oakland
WEBSITE:http://www.ticketmaster.com/partner_redirect?v=mLQ0OKISBauMxr0
 p-gJu0rG4XRCF6rbiC4OA9l6xJn1E3Dk_8p0vDMZHxYySFFN62W_44pt65f81FqItU1J3A
 vPNM7GYbSVBTgi2afiQ_-TW7hd0Rbz-h_I5fvC9ij978O4Th7RNqlf1qyNkftcFkfE3jjW
 fnMt2AOSgrHGuzQTQFHnzTuIQAPgdM46LMpfrLTqX8v1ijNr9zMeGZw&eventid=29004E
 3032961C1C&artistid=875571&artistname=Joe%20Budden&crosssite=TM_US:875
 571:338641
URL:http://www.ticketmaster.com/partner_redirect?v=mLQ0OKISBauMxr0p-gJ
 u0rG4XRCF6rbiC4OA9l6xJn1E3Dk_8p0vDMZHxYySFFN62W_44pt65f81FqItU1J3AvPNM
 7GYbSVBTgi2afiQ_-TW7hd0Rbz-h_I5fvC9ij978O4Th7RNqlf1qyNkftcFkfE3jjWfnMt
 2AOSgrHGuzQTQFHnzTuIQAPgdM46LMpfrLTqX8v1ijNr9zMeGZw&eventid=29004E3032
 961C1C&artistid=875571&artistname=Joe%20Budden&crosssite=TM_US:875571:
 338641
CONTACT:
ORGANIZER;CN="Editor's Pick":http://trueskool.com/profile/RentheVinylA
 rchaeologist
ATTACH;FMTTYPE="image/jpeg":http://storage.ning.com/topology/rest/1.0/
 file/get/2247973929?profile=original
ATTENDEE;ROLE=REQ-PARTICIPANT;PARTSTAT=ACCEPTED;RSVP=TRUE;CN="Editor's
  Pick":http://trueskool.com/profile/RentheVinylArchaeologist
END:VEVENT
END:VCALENDAR
