BEGIN:VCALENDAR
PRODID:NingEventWidget-v1
VERSION:2.0
METHOD:PUBLISH
BEGIN:VTIMEZONE
TZID:America/Los_Angeles
X-LIC-LOCATION:America/Los_Angeles
BEGIN:DAYLIGHT
TZOFFSETFROM:-0800
TZOFFSETTO:-0700
TZNAME:PDT
DTSTART:19700308T020000
RRULE:FREQ=YEARLY;BYMONTH=3;BYDAY=2SU
END:DAYLIGHT
BEGIN:STANDARD
TZOFFSETFROM:-0700
TZOFFSETTO:-0800
TZNAME:PST
DTSTART:19701101T020000
RRULE:FREQ=YEARLY;BYMONTH=11;BYDAY=1SU
END:STANDARD
END:VTIMEZONE
BEGIN:VEVENT
UID:1464587:Event:653143
DTSTAMP:20260421T211442Z
SUMMARY:Jody Watley
DESCRIPTION:FRI 11.11Jody Watley feat. Shalamar ReloadedDOORS: 7:30 PM
  / SHOW: 8:00 PM\n\nFRI 11.11Jody Watley feat. Shalamar ReloadedDOORS:
  9:45 PM / SHOW: 10:00 PM\n\nFor more information visit http://truesko
 ol.com/events/jody-watley-1
DTSTART;TZID=America/Los_Angeles:20161111T200000
DTEND;TZID=America/Los_Angeles:20161112T000000
CATEGORIES:"san francisco", oakland, berkley, "san jose", "bay area"
LOCATION:Yoshi's, Oakland
WEBSITE:http://www.yoshis.com/search/?q=Jody%20Watley%20feat.%20Shalam
 ar%20Reloaded
URL:http://www.yoshis.com/search/?q=Jody%20Watley%20feat.%20Shalamar%2
 0Reloaded
CONTACT:
ORGANIZER;CN="Editor's Pick":http://trueskool.com/profile/RentheVinylA
 rchaeologist
ATTACH;FMTTYPE="image/jpeg":http://storage.ning.com/topology/rest/1.0/
 file/get/2247990517?profile=original
ATTENDEE;ROLE=REQ-PARTICIPANT;PARTSTAT=ACCEPTED;RSVP=TRUE;CN="Editor's
  Pick":http://trueskool.com/profile/RentheVinylArchaeologist
END:VEVENT
END:VCALENDAR
