BEGIN:VCALENDAR
PRODID:NingEventWidget-v1
VERSION:2.0
METHOD:PUBLISH
BEGIN:VTIMEZONE
TZID:America/Los_Angeles
X-LIC-LOCATION:America/Los_Angeles
BEGIN:DAYLIGHT
TZOFFSETFROM:-0800
TZOFFSETTO:-0700
TZNAME:PDT
DTSTART:19700308T020000
RRULE:FREQ=YEARLY;BYMONTH=3;BYDAY=2SU
END:DAYLIGHT
BEGIN:STANDARD
TZOFFSETFROM:-0700
TZOFFSETTO:-0800
TZNAME:PST
DTSTART:19701101T020000
RRULE:FREQ=YEARLY;BYMONTH=11;BYDAY=1SU
END:STANDARD
END:VTIMEZONE
BEGIN:VEVENT
UID:1464587:Event:689777
DTSTAMP:20260420T164403Z
SUMMARY:JENNIFER JOHNS
DESCRIPTION:Show Rescheduled  EP Release and Tour Kick Off\r\nJENNIFER
  JOHNS Lalin Emily Afton Hosted by Aima the Dreamer\r\nThe New Parish 
 1743 San Pablo Ave Oakland, CA\r\nSaturday, August 24, 2019 Doors: 8:3
 0pm | Show: 9:00pm\r\nDue to unforeseen circumstances, Jennifer Johnsâ
 €™ show at The New Parish, originally scheduled for August 17th, has b
 een rescheduled to August 24th. Hold on to your tickets! All tickets w
 ill be honored at the door on August 24th. If needed, refunds are avai
 lable at point of purchase. Please contact info@thenewparish.com with 
 any questions or concerns.\r\nThis event is all ages.\r\n$10.00 â€“ Ge
 neral Admission (Advance) $15.00 â€“ General Admission (Door)\r\n*plus
  applicable service fees\r\nAll doors & show times subject to change.\
 r\nUnder 21 must buy $5 drink ticket at the door\n\nFor more informati
 on visit http://trueskool.com/events/jennifer-johns
DTSTART;TZID=America/Los_Angeles:20190824T210000
DTEND;TZID=America/Los_Angeles:20190824T233000
CATEGORIES:"bay area", oakland, "san francisco", "san jose", berkeley
LOCATION:The New Parish, Oakland
WEBSITE:https://www.eventbrite.com/e/jennifer-johns-lalin-emily-afton-
 hosted-by-aima-the-dreamer-tickets-62234805980?camefrom=CFC_ANOTHERPLA
 NET_web&amp;brand=anotherplanet
URL:https://www.eventbrite.com/e/jennifer-johns-lalin-emily-afton-host
 ed-by-aima-the-dreamer-tickets-62234805980?camefrom=CFC_ANOTHERPLANET_
 web&amp;brand=anotherplanet
CONTACT:
ORGANIZER;CN="Editor's Pick":http://trueskool.com/profile/RentheVinylA
 rchaeologist
ATTACH;FMTTYPE="image/jpeg":https://storage.ning.com/topology/rest/1.0
 /file/get/3403485324?profile=original
ATTENDEE;ROLE=REQ-PARTICIPANT;PARTSTAT=ACCEPTED;RSVP=TRUE;CN="Editor's
  Pick":http://trueskool.com/profile/RentheVinylArchaeologist
END:VEVENT
END:VCALENDAR
