BEGIN:VCALENDAR
PRODID:NingEventWidget-v1
VERSION:2.0
METHOD:PUBLISH
BEGIN:VTIMEZONE
TZID:America/Los_Angeles
X-LIC-LOCATION:America/Los_Angeles
BEGIN:DAYLIGHT
TZOFFSETFROM:-0800
TZOFFSETTO:-0700
TZNAME:PDT
DTSTART:19700308T020000
RRULE:FREQ=YEARLY;BYMONTH=3;BYDAY=2SU
END:DAYLIGHT
BEGIN:STANDARD
TZOFFSETFROM:-0700
TZOFFSETTO:-0800
TZNAME:PST
DTSTART:19701101T020000
RRULE:FREQ=YEARLY;BYMONTH=11;BYDAY=1SU
END:STANDARD
END:VTIMEZONE
BEGIN:VEVENT
UID:1464587:Event:540689
DTSTAMP:20260420T214307Z
SUMMARY:Jazmine Sullivan
DESCRIPTION:ENTER TO WIN A PAIR OF TICKETS. WINNER WILL BE DRAWN RANDO
 MLY AND ANNOUNCED 2 DAYS PRIOR TO EVENT. 2 PAIRS AVAILABLE \n\nIt’
 s hard to imagine a new artist who has had more love from the music wo
 rld than 27-year-oldJazmine Sullivan. The Philadelphia native’s 2008
  debut album Fearless bowed at No. 1 on Billboard’s Top R&B/Hip-Hop 
 Albums chart and spawned three Top 10 singles: “Need You Bad” (whi
 ch topped Billboard’s R&B/Hip-Hop chart, the first time a debuting f
 emale artist had achieved this in nearly four years), “Bust Your Win
 dows,” and “Lions, Tigers & Bears.” She has racked up seven Gram
 my Award nominations, including “Best New Artist,” “Best R&B Con
 temporary R&B Album,” and nods for each of the aforementioned single
 s, as well as for “In Love With Another Man.” In addition, Fearles
 s, which Sullivan co-wrote and executive produced, earned Sullivan a h
 eap of critical praise, including Elle magazine’s observation that S
 ullivan “swings deep and wide like Sarah Vaughn, tears it up like Ma
 ry J., and emanates the lady-preacher seriousness of Lauryn Hill.”\n
 \nWith a three-year hiatus from the music business behind her, Jazmine
  Sullivan will released her highly anticipated new studio album Realit
 y Show on January 13, 2015, via RCA Records. With her emotional curren
 t single “Forever Don’t Last” climbing the charts and the premie
 re of her poignant new song “Mascara,” Reality Show sees Jazmine c
 enter stage as she tackles the realities of love, life and everything 
 in between. Jazmine serves as the album’s executive producer and tak
 es pen to paper as the primary songwriter on all 12 tracks. Reality Sh
 ow reunites Jazmine with Grammy Award winning producer Salaam Remi as 
 well Key Wane, Chuck Harmony, Da Internz, Ant Bell, JoeLogic & Dilemma
  and DJ Dahi. In 2008, Jazmine Sullivan released her debut album Fearl
 ess, which featured the chart-topping hit singles “Need You Bad” a
 nd “Bust Your Windows,” and earned the Philly native an amazing se
 ven Grammy nominations including Best New Artist. Jazmine released her
  second album, the critically acclaimed Love Me Back in 2010, of which
  the Associated Press declared as “something amazing” and conseque
 ntly garnered her an eighth Grammy nomination for “Holding You Down 
 (Goin’ In Circles).” The recipient of Billboard’s Rising Star Aw
 ard, Jazmine is gearing up to go on tour in support of Reality Show.\n
 \nFor more information visit http://trueskool.com/events/jazmine-sulli
 van
DTSTART;TZID=America/Los_Angeles:20150325T210000
DTEND;TZID=America/Los_Angeles:20150326T020000
CATEGORIES:san, francisco, bay, area, mezzanine
LOCATION:Mezzanine, San Francisco, CA
WEBSITE:http://www.ticketmaster.com/event/1C004E42E2307024?brand=anoth
 erplanet&camefrom=CFC_ANOTHERPLANET
URL:http://www.ticketmaster.com/event/1C004E42E2307024?brand=anotherpl
 anet&camefrom=CFC_ANOTHERPLANET
CONTACT:415.625.8880
ORGANIZER:Another Planet Entertainment
ATTACH;FMTTYPE="image/jpeg":http://storage.ning.com/topology/rest/1.0/
 file/get/2247973618?profile=original
ATTENDEE;ROLE=REQ-PARTICIPANT;PARTSTAT=ACCEPTED;RSVP=TRUE;CN="Eric Dur
 an":http://trueskool.com/profile/EricDuran
ATTENDEE;ROLE=REQ-PARTICIPANT;PARTSTAT=ACCEPTED;RSVP=TRUE;CN="Joy Ng":
 http://trueskool.com/profile/JoyskiiSF
ATTENDEE;ROLE=REQ-PARTICIPANT;PARTSTAT=ACCEPTED;RSVP=TRUE;CN=Mezzanine
 SF:http://trueskool.com/profile/MezzanineSF
ATTENDEE;ROLE=REQ-PARTICIPANT;PARTSTAT=TENTATIVE;RSVP=TRUE;CN=Kimberly
 :http://trueskool.com/profile/Kimberly
END:VEVENT
END:VCALENDAR
