BEGIN:VCALENDAR
PRODID:NingEventWidget-v1
VERSION:2.0
METHOD:PUBLISH
BEGIN:VTIMEZONE
TZID:America/Los_Angeles
X-LIC-LOCATION:America/Los_Angeles
BEGIN:DAYLIGHT
TZOFFSETFROM:-0800
TZOFFSETTO:-0700
TZNAME:PDT
DTSTART:19700308T020000
RRULE:FREQ=YEARLY;BYMONTH=3;BYDAY=2SU
END:DAYLIGHT
BEGIN:STANDARD
TZOFFSETFROM:-0700
TZOFFSETTO:-0800
TZNAME:PST
DTSTART:19701101T020000
RRULE:FREQ=YEARLY;BYMONTH=11;BYDAY=1SU
END:STANDARD
END:VTIMEZONE
BEGIN:VEVENT
UID:1464587:Event:259293
DTSTAMP:20260421T011006Z
SUMMARY:JAY Z (Chicago)
DESCRIPTION:\nJAN  \n9\nTHU\n\nUnited CenterChicago, IL08:00 PM\n\n
 JAY Z: Magna Carter World TourDetails: JAY Z\nFind Tickets\n\n\n\n\nFo
 r more information visit http://trueskool.com/events/jay-z-chicago
DTSTART;TZID=America/Los_Angeles:20140109T200000
DTEND;TZID=America/Los_Angeles:20140109T230000
CATEGORIES:chicago
LOCATION:United Center, Chicago
WEBSITE:http://www.ticketmaster.com/jay-z-magna-carter-world-tour-chic
 ago-illinois-01-09-2014/event/04004B0FB5115182?artistid=781009&majorca
 tid=10001&minorcatid=3&tm_link=artist_msg-0_04004B0FB5115182
URL:http://www.ticketmaster.com/jay-z-magna-carter-world-tour-chicago-
 illinois-01-09-2014/event/04004B0FB5115182?artistid=781009&majorcatid=
 10001&minorcatid=3&tm_link=artist_msg-0_04004B0FB5115182
CONTACT:
ORGANIZER;CN="Editor's Pick":http://trueskool.com/profile/RentheVinylA
 rchaeologist
ATTACH;FMTTYPE="image/jpeg":http://storage.ning.com/topology/rest/1.0/
 file/get/2247949647?profile=original
ATTENDEE;ROLE=REQ-PARTICIPANT;PARTSTAT=ACCEPTED;RSVP=TRUE;CN="Editor's
  Pick":http://trueskool.com/profile/RentheVinylArchaeologist
END:VEVENT
END:VCALENDAR
