BEGIN:VCALENDAR
PRODID:NingEventWidget-v1
VERSION:2.0
METHOD:PUBLISH
BEGIN:VTIMEZONE
TZID:America/Los_Angeles
X-LIC-LOCATION:America/Los_Angeles
BEGIN:DAYLIGHT
TZOFFSETFROM:-0800
TZOFFSETTO:-0700
TZNAME:PDT
DTSTART:19700308T020000
RRULE:FREQ=YEARLY;BYMONTH=3;BYDAY=2SU
END:DAYLIGHT
BEGIN:STANDARD
TZOFFSETFROM:-0700
TZOFFSETTO:-0800
TZNAME:PST
DTSTART:19701101T020000
RRULE:FREQ=YEARLY;BYMONTH=11;BYDAY=1SU
END:STANDARD
END:VTIMEZONE
BEGIN:VEVENT
UID:1464587:Event:645009
DTSTAMP:20260421T022822Z
SUMMARY:Jay Electronica (WIN TICKETS)
DESCRIPTION:ENTER TO WIN A PAIR OF TICKETS. WINNER WILL BE DRAWN RANDO
 MLY AND ANNOUNCED 2 DAYS PRIOR TO EVENT.  \n WEDNESDAY, MARCH 30TH T
 ASTEMAKER LIVE, SEAN HEALY, & 1015 FOLSOM PRESENT JAY ELECTRONICA\nSUP
 PORT: REN THE VINYL ARCHAEOLOGIST (TRUE SKOOL) + MORE TBA!\n@ 1015, SA
 N FRANCISCO 10PM - 2AM | 21+ >> BUY TICKETS\n\n\nFor more information 
 visit http://trueskool.com/events/jay-electronica-win-tickets
DTSTART;TZID=America/Los_Angeles:20160330T220000
DTEND;TZID=America/Los_Angeles:20160331T020000
CATEGORIES:"bay area", "san francisco"
LOCATION:1015, San Francisco
WEBSITE:http://www.eventbrite.com/e/jay-electronica-at-1015-folsom-tic
 kets-22592118635?aff=site
URL:http://www.eventbrite.com/e/jay-electronica-at-1015-folsom-tickets
 -22592118635?aff=site
CONTACT:
ORGANIZER:Tastemaker Live & Sean Healy
ATTACH;FMTTYPE="image/jpeg":http://storage.ning.com/topology/rest/1.0/
 file/get/2247985980?profile=original
ATTENDEE;ROLE=REQ-PARTICIPANT;PARTSTAT=ACCEPTED;RSVP=TRUE;CN="Donte Ha
 rrison":http://trueskool.com/profile/DonteHarrison
ATTENDEE;ROLE=REQ-PARTICIPANT;PARTSTAT=ACCEPTED;RSVP=TRUE;CN="Editor's
  Pick":http://trueskool.com/profile/RentheVinylArchaeologist
END:VEVENT
END:VCALENDAR
