BEGIN:VCALENDAR
PRODID:NingEventWidget-v1
VERSION:2.0
METHOD:PUBLISH
BEGIN:VTIMEZONE
TZID:America/Los_Angeles
X-LIC-LOCATION:America/Los_Angeles
BEGIN:DAYLIGHT
TZOFFSETFROM:-0800
TZOFFSETTO:-0700
TZNAME:PDT
DTSTART:19700308T020000
RRULE:FREQ=YEARLY;BYMONTH=3;BYDAY=2SU
END:DAYLIGHT
BEGIN:STANDARD
TZOFFSETFROM:-0700
TZOFFSETTO:-0800
TZNAME:PST
DTSTART:19701101T020000
RRULE:FREQ=YEARLY;BYMONTH=11;BYDAY=1SU
END:STANDARD
END:VTIMEZONE
BEGIN:VEVENT
UID:1464587:Event:652299
DTSTAMP:20260420T102954Z
SUMMARY:JAKLYN Album Release Show + Ziva
DESCRIPTION:JAKLYN is a bold singer and songwriter who has always had 
 a vision for her own original, soulful sound that would fuse together 
 her many influences. She launched a solo music project so she could ca
 pture exactly what was in her mind, incorporating elements of soul, po
 p, jazz fusion, electronic, downtempo, hip hop, and rock. After severa
 l years of writing and recording, she has emerged with an impressive d
 ebut album that showcases her creative songwriting and reflects the di
 fferent facets of her artistic identity.\n The project defies boundari
 es of both genre and geography. For the production, JAKLYN tapped the 
 talents of Erik Rico, a versatile, multi-instrumentalist based out of 
 Austin, Texas. Rico has written and produced music for hip hop and sou
 l artists like Jurassic 5, Planet Asia, and Ladybug Mecca (Digable Pla
 nets), and has also made several of his own indie soul albums. They co
 llaborated remotely to form JAKLYN's 13 songs into an eclectic, dream-
 like journey of a “grown up girl” navigating through modern societ
 y. The album also benefits from tasteful contributions by jazz pianist
  Kit Taylor, who JAKLYN met while living in her native city, Portland,
  Oregon.  The album's title, That One Girl, is a nod to independent wo
 men who resist pressures to conform, and JAKLYN's expression ranges fr
 om fierce to vulnerable. Her soulful vocals mesh flawlessly with every
  flavor of music, as the album transitions through R&B, electro pop, a
 mbient, nu jazz, and alt-rock styles. The surprising addition of a min
 imally produced, downtempo-infused pop ballad at the end of the album 
 further demonstrates JAKLYN's range as a songwriter.  JAKLYN is an exc
 iting new Bay Area artist that is not to be missed. See her perform th
 e songs from her debut album for the first time at Doc's Lab, joined b
 y some of the Bay Area’s finest musicians.\nTickets available here:
 http://goo.gl/OoXFiJ\n\n\nFor more information visit http://trueskool
 .com/events/jaklyn-album-release-show-ziva
DTSTART;TZID=America/Los_Angeles:20160804T190000
DTEND;TZID=America/Los_Angeles:20160804T220000
CATEGORIES:"san francisco", "bay area"
LOCATION:Doc's Lab, San Francisco
WEBSITE:https://www.google.com/maps/place/Doc's+Lab/@37.7968533,-122.4
 0703,17z/data=!3m1!4b1!4m5!3m4!1s0x8085808ad2d16129:0x1c7dcb40c3459d02
 !8m2!3d37.7968533!4d-122.404836
URL:https://www.google.com/maps/place/Doc's+Lab/@37.7968533,-122.40703
 ,17z/data=!3m1!4b1!4m5!3m4!1s0x8085808ad2d16129:0x1c7dcb40c3459d02!8m2
 !3d37.7968533!4d-122.404836
CONTACT:
ORGANIZER;CN="JAKLYN Music":http://trueskool.com/profile/JAKLYNMusic
ATTACH;FMTTYPE="image/jpeg":http://storage.ning.com/topology/rest/1.0/
 file/get/2247989969?profile=original
ATTENDEE;ROLE=REQ-PARTICIPANT;PARTSTAT=ACCEPTED;RSVP=TRUE;CN="JAKLYN M
 usic":http://trueskool.com/profile/JAKLYNMusic
END:VEVENT
END:VCALENDAR
