BEGIN:VCALENDAR
PRODID:NingEventWidget-v1
VERSION:2.0
METHOD:PUBLISH
BEGIN:VTIMEZONE
TZID:America/Los_Angeles
X-LIC-LOCATION:America/Los_Angeles
BEGIN:DAYLIGHT
TZOFFSETFROM:-0800
TZOFFSETTO:-0700
TZNAME:PDT
DTSTART:19700308T020000
RRULE:FREQ=YEARLY;BYMONTH=3;BYDAY=2SU
END:DAYLIGHT
BEGIN:STANDARD
TZOFFSETFROM:-0700
TZOFFSETTO:-0800
TZNAME:PST
DTSTART:19701101T020000
RRULE:FREQ=YEARLY;BYMONTH=11;BYDAY=1SU
END:STANDARD
END:VTIMEZONE
BEGIN:VEVENT
UID:1464587:Event:644575
DTSTAMP:20260420T183750Z
SUMMARY:J Stalin, AKA Frank, Trill Youngins, Lil Yase
DESCRIPTION: Sat. March 5 \nJ Stalin\nAKA Frank\nTrill Youngins \nLil 
 Yase\nSlim's (333 11th St. SF - all ages 6+) doors 8pm/show 9pm \nTick
 ets are $19 advance/$23 door\nTickets & details\n\nFor more informatio
 n visit http://trueskool.com/events/j-stalin-aka-frank-trill-youngins-
 lil-yase
DTSTART;TZID=America/Los_Angeles:20160305T200000
DTEND;TZID=America/Los_Angeles:20160305T230000
CATEGORIES:"bay area", "san francisco"
LOCATION:Slim's, San Francisco
WEBSITE:http://bit.ly/1QadRew
URL:http://bit.ly/1QadRew
CONTACT:
ORGANIZER:Slim's
ATTACH;FMTTYPE="image/jpeg":http://storage.ning.com/topology/rest/1.0/
 file/get/2247984814?profile=original
ATTENDEE;ROLE=REQ-PARTICIPANT;PARTSTAT=ACCEPTED;RSVP=TRUE;CN="Editor's
  Pick":http://trueskool.com/profile/RentheVinylArchaeologist
END:VEVENT
END:VCALENDAR
