BEGIN:VCALENDAR
PRODID:NingEventWidget-v1
VERSION:2.0
METHOD:PUBLISH
BEGIN:VTIMEZONE
TZID:America/Los_Angeles
X-LIC-LOCATION:America/Los_Angeles
BEGIN:DAYLIGHT
TZOFFSETFROM:-0800
TZOFFSETTO:-0700
TZNAME:PDT
DTSTART:19700308T020000
RRULE:FREQ=YEARLY;BYMONTH=3;BYDAY=2SU
END:DAYLIGHT
BEGIN:STANDARD
TZOFFSETFROM:-0700
TZOFFSETTO:-0800
TZNAME:PST
DTSTART:19701101T020000
RRULE:FREQ=YEARLY;BYMONTH=11;BYDAY=1SU
END:STANDARD
END:VTIMEZONE
BEGIN:VEVENT
UID:1464587:Event:839507
DTSTAMP:20260424T014505Z
SUMMARY:J. Holiday
DESCRIPTION:\r\n\r\nFRIDAY, SEPT 12\r\nGRAMMY©-nominated R&B singer\r
 \nJ. HOLIDAY\r\n@ Yoshi's, 510 Embarcadero, Oakland\r\nTwo shows!\r\nD
 oors: 7:00PM / Show: 7:30PM\r\nDoors: 9:00PM / Show: 9:30PM\r\n>> BUY 
 TICKETS\r\n\r\n\r\n\n\nFor more information visit http://trueskool.com
 /events/j-holiday-1
DTSTART;TZID=America/Los_Angeles:20250912T190000
DTEND;TZID=America/Los_Angeles:20250912T230000
CATEGORIES:"bay area", oakland
LOCATION:Yoshi's, Oakland
WEBSITE:https://yoshis.com/events/buy-tickets/j-holiday-10/detail
URL:https://yoshis.com/events/buy-tickets/j-holiday-10/detail
CONTACT:
ORGANIZER:Yoshi's
ATTACH;FMTTYPE="image/jpeg":https://storage.ning.com/topology/rest/1.0
 /file/get/13707545455?profile=original
ATTENDEE;ROLE=REQ-PARTICIPANT;PARTSTAT=ACCEPTED;RSVP=TRUE;CN="Editor's
  Pick":http://trueskool.com/profile/RentheVinylArchaeologist
END:VEVENT
END:VCALENDAR
