BEGIN:VCALENDAR
PRODID:NingEventWidget-v1
VERSION:2.0
METHOD:PUBLISH
BEGIN:VTIMEZONE
TZID:America/Los_Angeles
X-LIC-LOCATION:America/Los_Angeles
BEGIN:DAYLIGHT
TZOFFSETFROM:-0800
TZOFFSETTO:-0700
TZNAME:PDT
DTSTART:19700308T020000
RRULE:FREQ=YEARLY;BYMONTH=3;BYDAY=2SU
END:DAYLIGHT
BEGIN:STANDARD
TZOFFSETFROM:-0700
TZOFFSETTO:-0800
TZNAME:PST
DTSTART:19701101T020000
RRULE:FREQ=YEARLY;BYMONTH=11;BYDAY=1SU
END:STANDARD
END:VTIMEZONE
BEGIN:VEVENT
UID:1464587:Event:275831
DTSTAMP:20260420T230948Z
SUMMARY:J. Cole (NYC)
DESCRIPTION:\nJ. Cole: What Dreams May Come Tour\n\n\nThe Theater at M
 adison Square Garden New York, NY\nTue, 01/28/14 08:00 PM\n Find  
 Tickets\n\n\n\n\nFor more information visit http://trueskool.com/event
 s/j-cole-nyc
DTSTART;TZID=America/Los_Angeles:20140128T200000
DTEND;TZID=America/Los_Angeles:20140128T230000
CATEGORIES:nyc
LOCATION:The Theater at Madison Square Garden, New York
WEBSITE:http://www.ticketmaster.com/J-Cole-tickets/artist/1474871
URL:http://www.ticketmaster.com/J-Cole-tickets/artist/1474871
CONTACT:
ORGANIZER;CN="Editor's Pick":http://trueskool.com/profile/RentheVinylA
 rchaeologist
ATTACH;FMTTYPE="image/jpeg":http://storage.ning.com/topology/rest/1.0/
 file/get/2247950376?profile=original
ATTENDEE;ROLE=REQ-PARTICIPANT;PARTSTAT=ACCEPTED;RSVP=TRUE;CN="Editor's
  Pick":http://trueskool.com/profile/RentheVinylArchaeologist
END:VEVENT
END:VCALENDAR
