BEGIN:VCALENDAR
PRODID:NingEventWidget-v1
VERSION:2.0
METHOD:PUBLISH
BEGIN:VTIMEZONE
TZID:America/Los_Angeles
X-LIC-LOCATION:America/Los_Angeles
BEGIN:DAYLIGHT
TZOFFSETFROM:-0800
TZOFFSETTO:-0700
TZNAME:PDT
DTSTART:19700308T020000
RRULE:FREQ=YEARLY;BYMONTH=3;BYDAY=2SU
END:DAYLIGHT
BEGIN:STANDARD
TZOFFSETFROM:-0700
TZOFFSETTO:-0800
TZNAME:PST
DTSTART:19701101T020000
RRULE:FREQ=YEARLY;BYMONTH=11;BYDAY=1SU
END:STANDARD
END:VTIMEZONE
BEGIN:VEVENT
UID:1464587:Event:551889
DTSTAMP:20260420T182112Z
SUMMARY:J Boog (Miami)
DESCRIPTION:\nDate\nLocation\nEvent Details\nFind Tickets\n\n\n APR 
  \n10\nFRI\n\nCulture RoomFt Lauderdale, FL07:30 PM\n\nJ Boog\nSee T
 ickets\n\n\n\n\nFor more information visit http://trueskool.com/events
 /j-boog-miami
DTSTART;TZID=America/Los_Angeles:20150410T193000
DTEND;TZID=America/Los_Angeles:20150410T230000
CATEGORIES:miami, florida, fla, "ft. lauderdale"
LOCATION:Culture Room, Ft. Lauderdale
WEBSITE:http://www.ticketmaster.com/Culture-Room-tickets-Ft-Lauderdale
 /venue/106841
URL:http://www.ticketmaster.com/Culture-Room-tickets-Ft-Lauderdale/ven
 ue/106841
CONTACT:
ORGANIZER;CN="Editor's Pick":http://trueskool.com/profile/RentheVinylA
 rchaeologist
ATTACH;FMTTYPE="image/jpeg":http://storage.ning.com/topology/rest/1.0/
 file/get/2247950512?profile=original
ATTENDEE;ROLE=REQ-PARTICIPANT;PARTSTAT=ACCEPTED;RSVP=TRUE;CN="Editor's
  Pick":http://trueskool.com/profile/RentheVinylArchaeologist
END:VEVENT
END:VCALENDAR
