BEGIN:VCALENDAR
PRODID:NingEventWidget-v1
VERSION:2.0
METHOD:PUBLISH
BEGIN:VTIMEZONE
TZID:America/Los_Angeles
X-LIC-LOCATION:America/Los_Angeles
BEGIN:DAYLIGHT
TZOFFSETFROM:-0800
TZOFFSETTO:-0700
TZNAME:PDT
DTSTART:19700308T020000
RRULE:FREQ=YEARLY;BYMONTH=3;BYDAY=2SU
END:DAYLIGHT
BEGIN:STANDARD
TZOFFSETFROM:-0700
TZOFFSETTO:-0800
TZNAME:PST
DTSTART:19701101T020000
RRULE:FREQ=YEARLY;BYMONTH=11;BYDAY=1SU
END:STANDARD
END:VTIMEZONE
BEGIN:VEVENT
UID:1464587:Event:550214
DTSTAMP:20260421T090024Z
SUMMARY:J Boog (Los Angeles)
DESCRIPTION:\nDate\nLocation\nEvent Details\nFind Tickets\n\n\nAPR  
 \n20\nMON\n08:00 PM\n\nHouse of Blues AnaheimAnaheim, CA\n\nJ Boog\nM
 ore Infoon Live Nation\npresale begins:Thu, 02/12/1510:00 AM\n\n\n\n\n
 \nFor more information visit http://trueskool.com/events/j-boog-los-an
 geles-1
DTSTART;TZID=America/Los_Angeles:20150420T200000
DTEND;TZID=America/Los_Angeles:20150420T230000
CATEGORIES:"los angeles", la, anaheim, california
LOCATION:House of Blues, Anaheim
WEBSITE:http://www.ticketmaster.com/partner_redirect?v=oz5AdyQJDDVo9Hj
 uCrGogFYnc-CdzKK5wCtTD-X1vRiqkXckfxULSndC_sLupzE6BrCsq_UnFtGhFppT-MAZv
 yIRSbeNWLnfs-ts4XjZczwvX6fP90VxrAp6EyHVLg09PDbP-g&eventid=09004E48E038
 2451&artistid=1526783&artistname=J%20Boog&crosssite=TM_US:1526783:7409
 6
URL:http://www.ticketmaster.com/partner_redirect?v=oz5AdyQJDDVo9HjuCrG
 ogFYnc-CdzKK5wCtTD-X1vRiqkXckfxULSndC_sLupzE6BrCsq_UnFtGhFppT-MAZvyIRS
 beNWLnfs-ts4XjZczwvX6fP90VxrAp6EyHVLg09PDbP-g&eventid=09004E48E0382451
 &artistid=1526783&artistname=J%20Boog&crosssite=TM_US:1526783:74096
CONTACT:
ORGANIZER;CN="Editor's Pick":http://trueskool.com/profile/RentheVinylA
 rchaeologist
ATTACH;FMTTYPE="image/jpeg":http://storage.ning.com/topology/rest/1.0/
 file/get/2247950512?profile=original
ATTENDEE;ROLE=REQ-PARTICIPANT;PARTSTAT=ACCEPTED;RSVP=TRUE;CN="Editor's
  Pick":http://trueskool.com/profile/RentheVinylArchaeologist
END:VEVENT
END:VCALENDAR
