BEGIN:VCALENDAR
PRODID:NingEventWidget-v1
VERSION:2.0
METHOD:PUBLISH
BEGIN:VTIMEZONE
TZID:America/Los_Angeles
X-LIC-LOCATION:America/Los_Angeles
BEGIN:DAYLIGHT
TZOFFSETFROM:-0800
TZOFFSETTO:-0700
TZNAME:PDT
DTSTART:19700308T020000
RRULE:FREQ=YEARLY;BYMONTH=3;BYDAY=2SU
END:DAYLIGHT
BEGIN:STANDARD
TZOFFSETFROM:-0700
TZOFFSETTO:-0800
TZNAME:PST
DTSTART:19701101T020000
RRULE:FREQ=YEARLY;BYMONTH=11;BYDAY=1SU
END:STANDARD
END:VTIMEZONE
BEGIN:VEVENT
UID:1464587:Event:545254
DTSTAMP:20260420T201459Z
SUMMARY:Isley Brothers (Atlanta)
DESCRIPTION:\n\nDate\nLocation\nEvent Details\nFind Tickets\n\n\nMAR 
  \n14\nSAT\n\nAlbany Civic CenterAlbany, GA 07:00 PM\n\nThe Isley B
 rothers, Fantasia, and the Atlanta Pleasure BandDetails: Isley Brother
 s,Fantasia\nSee Tickets\n\n\n\n\n\n\n\n\n\n\n\nFor more information vi
 sit http://trueskool.com/events/isley-brothers-atlanta
DTSTART;TZID=America/Los_Angeles:20150314T190000
DTEND;TZID=America/Los_Angeles:20150314T230000
CATEGORIES:atlanta, georgia, atl
LOCATION:Albany Civic Center, Atlanta
WEBSITE:http://www.ticketmaster.com/the-isley-brothers-fantasia-and-th
 e-albany-georgia-03-14-2015/event/22004D97C07671FB?artistid=735343&maj
 orcatid=10001&minorcatid=202&tm_link=artist_msg-0_22004D97C07671FB
URL:http://www.ticketmaster.com/the-isley-brothers-fantasia-and-the-al
 bany-georgia-03-14-2015/event/22004D97C07671FB?artistid=735343&majorca
 tid=10001&minorcatid=202&tm_link=artist_msg-0_22004D97C07671FB
CONTACT:
ORGANIZER;CN="Editor's Pick":http://trueskool.com/profile/RentheVinylA
 rchaeologist
ATTACH;FMTTYPE="image/jpeg":http://storage.ning.com/topology/rest/1.0/
 file/get/2247973394?profile=original
ATTENDEE;ROLE=REQ-PARTICIPANT;PARTSTAT=ACCEPTED;RSVP=TRUE;CN="Editor's
  Pick":http://trueskool.com/profile/RentheVinylArchaeologist
END:VEVENT
END:VCALENDAR
