BEGIN:VCALENDAR
PRODID:NingEventWidget-v1
VERSION:2.0
METHOD:PUBLISH
BEGIN:VTIMEZONE
TZID:America/Los_Angeles
X-LIC-LOCATION:America/Los_Angeles
BEGIN:DAYLIGHT
TZOFFSETFROM:-0800
TZOFFSETTO:-0700
TZNAME:PDT
DTSTART:19700308T020000
RRULE:FREQ=YEARLY;BYMONTH=3;BYDAY=2SU
END:DAYLIGHT
BEGIN:STANDARD
TZOFFSETFROM:-0700
TZOFFSETTO:-0800
TZNAME:PST
DTSTART:19701101T020000
RRULE:FREQ=YEARLY;BYMONTH=11;BYDAY=1SU
END:STANDARD
END:VTIMEZONE
BEGIN:VEVENT
UID:1464587:Event:545127
DTSTAMP:20260420T171504Z
SUMMARY:Iration (Atlanta)
DESCRIPTION:\nDate\nLocation\nEvent Details\nFind Tickets\n\n\nMAY  
 \n1\nFRI\n\nVariety PlayhouseAtlanta, GA08:00 PM\n\nIration - Tales F
 rom The SeaDetails: Iration\nSee Tickets\n\n\n\n\nFor more information
  visit http://trueskool.com/events/iration-atlanta
DTSTART;TZID=America/Los_Angeles:20150501T200000
DTEND;TZID=America/Los_Angeles:20150501T230000
CATEGORIES:atlanta, georgia, atl
LOCATION:Variety Playhouse, Atlanta
WEBSITE:http://www.ticketmaster.com/iration-tales-from-the-sea-atlanta
 -georgia-05-01-2015/event/0E004D6DCAC48B80?artistid=1253946&majorcatid
 =10001&minorcatid=5&tm_link=artist_msg-0_0E004D6DCAC48B80
URL:http://www.ticketmaster.com/iration-tales-from-the-sea-atlanta-geo
 rgia-05-01-2015/event/0E004D6DCAC48B80?artistid=1253946&majorcatid=100
 01&minorcatid=5&tm_link=artist_msg-0_0E004D6DCAC48B80
CONTACT:
ORGANIZER;CN="Editor's Pick":http://trueskool.com/profile/RentheVinylA
 rchaeologist
ATTACH;FMTTYPE="image/jpeg":http://storage.ning.com/topology/rest/1.0/
 file/get/2247944061?profile=original
ATTENDEE;ROLE=REQ-PARTICIPANT;PARTSTAT=ACCEPTED;RSVP=TRUE;CN="Editor's
  Pick":http://trueskool.com/profile/RentheVinylArchaeologist
END:VEVENT
END:VCALENDAR
